BEGIN:VCALENDAR
VERSION:2.0
PRODID:-//UNIVERSITY OF TEXAS SCHOOL OF LAW//NONSGML Events Calendar v1.0//EN
X-WR-TIMEZONE:America/Chicago
BEGIN:VTIMEZONE
TZID:US/Central
X-LIC-LOCATION:America/Chicago
BEGIN:DAYLIGHT
TZOFFSETFROM:-0600
TZOFFSETTO:-0500
TZNAME:CDT
DTSTART:19700308T020000
RRULE:FREQ=YEARLY;BYMONTH=3;BYDAY=2SU
END:DAYLIGHT
BEGIN:STANDARD
TZOFFSETFROM:-0500
TZOFFSETTO:-0600
TZNAME:CST
DTSTART:19701101T020000
RRULE:FREQ=YEARLY;BYMONTH=11;BYDAY=1SU
END:STANDARD
END:VTIMEZONE
BEGIN:VEVENT
DTSTART;TZID=US/Central:20131017T114500
DTEND;VALUE=DATE-TIME;TZID=US/Central:20131017T124500

DTSTAMP:20260422T060300Z
CREATED:20130905T153600Z
LAST-MODIFIED:20131015T162800Z
UID:20131017T114500-17317@law.utexas.edu
SUMMARY:Prisoners' Rights Advocates
DESCRIPTION:<p>Rights of the Incarcerated: Theory vs. Practice</p>
  <p> Does representation stop when your client goes to jail or prison?  What should defense attorneys and human rights activists know about prison conditions and the laws that inmates face when drafting grievances and writs?</p>
  <p>Join us for a discussion of prisoners’ rights with Michelle Smith,’11, former Equal Justice Works Fellow at the  Texas Civil Rights Project, and Terri LeClercq, Ph.D., author of Prison Grievances; when to write, how to write, a graphic novel written for inmates, and former UT Law professor</p>
  <p>To attend, RSVP to Rachel Sidopulos (rsidopulos@law.utexas.edu), by noon on Tuesday, October 15th.</p>\n\nIf you need an accommodation to participate in this event, please contact the event sponsor or the Texas Law Special Events Office at specialevents@law.utexas.edu no later than seven business days prior to the event.
X-ALT-DESC;FMTTYPE=text/html:<p>Rights of the Incarcerated: Theory vs. Practice</p>
  <p> Does representation stop when your client goes to jail or prison?  What should defense attorneys and human rights activists know about prison conditions and the laws that inmates face when drafting grievances and writs?</p>
  <p>Join us for a discussion of prisoners’ rights with Michelle Smith,’11, former Equal Justice Works Fellow at the  Texas Civil Rights Project, and Terri LeClercq, Ph.D., author of Prison Grievances; when to write, how to write, a graphic novel written for inmates, and former UT Law professor</p>
  <p>To attend, RSVP to Rachel Sidopulos (rsidopulos@law.utexas.edu), by noon on Tuesday, October 15th.</p><p>If you need an accommodation to participate in this event, please contact the event
                                          event sponsor or the Texas Law Special Events Office at <a href="mailto:specialevents@law.utexas.edu">specialevents@law.utexas.edu</a> no later than seven business days prior to the event.</p>
CATEGORIES:Other
LOCATION:TNH 3.127 - Roberts Classroom
URL:http://law.utexas.edu/calendar/2013/10/17/17317/
CLASS:PUBLIC
STATUS:CONFIRMED

END:VEVENT
END:VCALENDAR