BEGIN:VCALENDAR
VERSION:2.0
PRODID:-//UNIVERSITY OF TEXAS SCHOOL OF LAW//NONSGML Events Calendar v1.0//EN
X-WR-TIMEZONE:America/Chicago
BEGIN:VTIMEZONE
TZID:US/Central
X-LIC-LOCATION:America/Chicago
BEGIN:DAYLIGHT
TZOFFSETFROM:-0600
TZOFFSETTO:-0500
TZNAME:CDT
DTSTART:19700308T020000
RRULE:FREQ=YEARLY;BYMONTH=3;BYDAY=2SU
END:DAYLIGHT
BEGIN:STANDARD
TZOFFSETFROM:-0500
TZOFFSETTO:-0600
TZNAME:CST
DTSTART:19701101T020000
RRULE:FREQ=YEARLY;BYMONTH=11;BYDAY=1SU
END:STANDARD
END:VTIMEZONE
BEGIN:VEVENT
DTSTART;TZID=US/Central:20131017T113000
DTEND;VALUE=DATE-TIME;TZID=US/Central:20131017T130000

DTSTAMP:20260422T031300Z
CREATED:20131014T152600Z
LAST-MODIFIED:20131014T152600Z
UID:20131017T113000-17625@law.utexas.edu
SUMMARY:Portfolio Brown Bag Lunch
DESCRIPTION:<p>Graduate Portfolio Program in Dispute Resolution Brown Bag Series presents-</p>
  <p>Professor Linda Golden, Dept. of Marketing, McCombs School of Business
  "Perspectives on Markets, Fraud and Risk"
  Refreshments served.</p>
  <p>Thursday, October 17, 2013
  11:30am-1:00pm.
  UT Law School, Jury Room, CCJ 2.310</p>
  <p>Bring your lunch, and bring your friends who might be interested in ADR!</p>
  <p>The Graduate Portfolio Program in Dispute Resolution offers an interdisciplinary approach to the teaching and study of dispute resolution. </p>
  <p>For more information, visit the website at www.utexas.edu/law/centers/cppdr/portfolio/or contact the Center for Public Policy Dispute Resolution at 512-471-3507 or cppdr@law.utexas.edu.
  </p>\n\nIf you need an accommodation to participate in this event, please contact the event sponsor or the Texas Law Special Events Office at specialevents@law.utexas.edu no later than seven business days prior to the event.
X-ALT-DESC;FMTTYPE=text/html:<p>Graduate Portfolio Program in Dispute Resolution Brown Bag Series presents-</p>
  <p>Professor Linda Golden, Dept. of Marketing, McCombs School of Business
  "Perspectives on Markets, Fraud and Risk"
  Refreshments served.</p>
  <p>Thursday, October 17, 2013
  11:30am-1:00pm.
  UT Law School, Jury Room, CCJ 2.310</p>
  <p>Bring your lunch, and bring your friends who might be interested in ADR!</p>
  <p>The Graduate Portfolio Program in Dispute Resolution offers an interdisciplinary approach to the teaching and study of dispute resolution. </p>
  <p>For more information, visit the website at www.utexas.edu/law/centers/cppdr/portfolio/or contact the Center for Public Policy Dispute Resolution at 512-471-3507 or cppdr@law.utexas.edu.
  </p><p>If you need an accommodation to participate in this event, please contact the event
                                          event sponsor or the Texas Law Special Events Office at <a href="mailto:specialevents@law.utexas.edu">specialevents@law.utexas.edu</a> no later than seven business days prior to the event.</p>
CATEGORIES:Lunch
LOCATION:CCJ 2.310 - Jury Room
URL:http://law.utexas.edu/calendar/2013/10/17/17625/
CLASS:PUBLIC
STATUS:CONFIRMED

END:VEVENT
END:VCALENDAR