BEGIN:VCALENDAR
VERSION:2.0
PRODID:-//UNIVERSITY OF TEXAS SCHOOL OF LAW//NONSGML Events Calendar v1.0//EN
X-WR-TIMEZONE:America/Chicago
BEGIN:VTIMEZONE
TZID:US/Central
X-LIC-LOCATION:America/Chicago
BEGIN:DAYLIGHT
TZOFFSETFROM:-0600
TZOFFSETTO:-0500
TZNAME:CDT
DTSTART:19700308T020000
RRULE:FREQ=YEARLY;BYMONTH=3;BYDAY=2SU
END:DAYLIGHT
BEGIN:STANDARD
TZOFFSETFROM:-0500
TZOFFSETTO:-0600
TZNAME:CST
DTSTART:19701101T020000
RRULE:FREQ=YEARLY;BYMONTH=11;BYDAY=1SU
END:STANDARD
END:VTIMEZONE
BEGIN:VEVENT
DTSTART;TZID=US/Central:20131018T133000
DTEND;VALUE=DATE-TIME;TZID=US/Central:20131018T160000

DTSTAMP:20260422T060300Z
CREATED:20131017T141900Z
LAST-MODIFIED:20131017T141900Z
UID:20131018T133000-17723@law.utexas.edu
SUMMARY:Hargrave Service Project
DESCRIPTION:<p>Students from the Hargrave Society will be volunteering at Austin Pets Alive from 1:30 until 4:00 p.m., 1156 W. Caesar Chavez St, 78703.</p>\n\nIf you need an accommodation to participate in this event, please contact the event sponsor or the Texas Law Special Events Office at specialevents@law.utexas.edu no later than seven business days prior to the event.
X-ALT-DESC;FMTTYPE=text/html:<p>Students from the Hargrave Society will be volunteering at Austin Pets Alive from 1:30 until 4:00 p.m., 1156 W. Caesar Chavez St, 78703.</p><p>If you need an accommodation to participate in this event, please contact the event
                                          event sponsor or the Texas Law Special Events Office at <a href="mailto:specialevents@law.utexas.edu">specialevents@law.utexas.edu</a> no later than seven business days prior to the event.</p>

LOCATION:Austin Pets Alive!
URL:http://law.utexas.edu/calendar/2013/10/18/17723/
CLASS:PUBLIC
STATUS:CONFIRMED

END:VEVENT
END:VCALENDAR