BEGIN:VCALENDAR
VERSION:2.0
PRODID:-//UNIVERSITY OF TEXAS SCHOOL OF LAW//NONSGML Events Calendar v1.0//EN
X-WR-TIMEZONE:America/Chicago
BEGIN:VTIMEZONE
TZID:US/Central
X-LIC-LOCATION:America/Chicago
BEGIN:DAYLIGHT
TZOFFSETFROM:-0600
TZOFFSETTO:-0500
TZNAME:CDT
DTSTART:19700308T020000
RRULE:FREQ=YEARLY;BYMONTH=3;BYDAY=2SU
END:DAYLIGHT
BEGIN:STANDARD
TZOFFSETFROM:-0500
TZOFFSETTO:-0600
TZNAME:CST
DTSTART:19701101T020000
RRULE:FREQ=YEARLY;BYMONTH=11;BYDAY=1SU
END:STANDARD
END:VTIMEZONE
BEGIN:VEVENT
DTSTART;TZID=US/Central:20131019
DTEND;TZID=US/Central:20131020
X-MICROSOFT-CDO-ALLDAYEVENT:TRUE
X-FUNAMBOL-ALLDAY:TRUE
DTSTAMP:20260422T031300Z
CREATED:20130712T153700Z
LAST-MODIFIED:20130912T193100Z
UID:20131019T080000-16934@law.utexas.edu
SUMMARY:ITAM &amp; UT Law Joint Workshop
DESCRIPTION:<p>Faculty from the Instituto Tecnológico Autónomo de México  (ITAM) and from The University of Texas at Austin School of Law will meet on October 18 and 19, 2013 for a workshop hosted by UT School of Law</p>\n\nIf you need an accommodation to participate in this event, please contact the event sponsor or the Texas Law Special Events Office at specialevents@law.utexas.edu no later than seven business days prior to the event.
X-ALT-DESC;FMTTYPE=text/html:<p>Faculty from the Instituto Tecnológico Autónomo de México  (ITAM) and from The University of Texas at Austin School of Law will meet on October 18 and 19, 2013 for a workshop hosted by UT School of Law</p><p>If you need an accommodation to participate in this event, please contact the event
                                          event sponsor or the Texas Law Special Events Office at <a href="mailto:specialevents@law.utexas.edu">specialevents@law.utexas.edu</a> no later than seven business days prior to the event.</p>
CATEGORIES:Workshop / Training Program
LOCATION:TNH 2.111 - Sheffield-Massey Room
URL:http://law.utexas.edu/calendar/2013/10/19/16934/
CLASS:PUBLIC
STATUS:CONFIRMED
COMMENT:Contact Ted Magee at tmagee@law.utexas.edu
END:VEVENT
END:VCALENDAR