BEGIN:VCALENDAR
VERSION:2.0
PRODID:-//UNIVERSITY OF TEXAS SCHOOL OF LAW//NONSGML Events Calendar v1.0//EN
X-WR-TIMEZONE:America/Chicago
BEGIN:VTIMEZONE
TZID:US/Central
X-LIC-LOCATION:America/Chicago
BEGIN:DAYLIGHT
TZOFFSETFROM:-0600
TZOFFSETTO:-0500
TZNAME:CDT
DTSTART:19700308T020000
RRULE:FREQ=YEARLY;BYMONTH=3;BYDAY=2SU
END:DAYLIGHT
BEGIN:STANDARD
TZOFFSETFROM:-0500
TZOFFSETTO:-0600
TZNAME:CST
DTSTART:19701101T020000
RRULE:FREQ=YEARLY;BYMONTH=11;BYDAY=1SU
END:STANDARD
END:VTIMEZONE
BEGIN:VEVENT
DTSTART;TZID=US/Central:20131019T113000
DTEND;VALUE=DATE-TIME;TZID=US/Central:20131019T133000

DTSTAMP:20260422T031300Z
CREATED:20131014T143800Z
LAST-MODIFIED:20131014T143800Z
UID:20131019T113000-17624@law.utexas.edu
SUMMARY:SALDF/ELS Off-Leash Hike
DESCRIPTION:<p>Student Animal Legal Defense Fund and Environmental Law Society are hosting an off-leash dog hike at Turkey Creek Trail on October 19, 11:30-1:30. The trail is a fairly easy 3 mile loop with lots of places for the pups to splash around. Meet us in the parking lot around 11:15-11:30, and we'll leave from there once everyone arrives. If you get lost or have questions, call Lindsay at 208.841.2263. </p>
  <p>
  Turkey Creek Trail, map: <a href="https://maps.google.com/maps?q=turkey+creek+trail+austin&amp;ie=UTF-8&amp;hq=&amp;hnear=0x865b344478eac6d7:0x79678dfd6b26a4c3,Turkey+Creek+Dr,+Austin,+TX+78730&amp;gl=us&amp;ei=CFNbUvPCG6m52QXY7IGICA&amp;ved=0CD8Q8gEwAg">https://maps.google.com/maps?q=turkey+creek+trail+austin&amp;ie=UTF-8&amp;hq=&amp;hnear=0x865b344478eac6d7:0x79678dfd6b26a4c3,Turkey+Creek+Dr,+Austin,+TX+78730&amp;gl=us&amp;ei=CFNbUvPCG6m52QXY7IGICA&amp;ved=0CD8Q8gEwAg</a></p>\n\nIf you need an accommodation to participate in this event, please contact the event sponsor or the Texas Law Special Events Office at specialevents@law.utexas.edu no later than seven business days prior to the event.
X-ALT-DESC;FMTTYPE=text/html:<p>Student Animal Legal Defense Fund and Environmental Law Society are hosting an off-leash dog hike at Turkey Creek Trail on October 19, 11:30-1:30. The trail is a fairly easy 3 mile loop with lots of places for the pups to splash around. Meet us in the parking lot around 11:15-11:30, and we'll leave from there once everyone arrives. If you get lost or have questions, call Lindsay at 208.841.2263. </p>
  <p>
  Turkey Creek Trail, map: <a href="https://maps.google.com/maps?q=turkey+creek+trail+austin&amp;ie=UTF-8&amp;hq=&amp;hnear=0x865b344478eac6d7:0x79678dfd6b26a4c3,Turkey+Creek+Dr,+Austin,+TX+78730&amp;gl=us&amp;ei=CFNbUvPCG6m52QXY7IGICA&amp;ved=0CD8Q8gEwAg">https://maps.google.com/maps?q=turkey+creek+trail+austin&amp;ie=UTF-8&amp;hq=&amp;hnear=0x865b344478eac6d7:0x79678dfd6b26a4c3,Turkey+Creek+Dr,+Austin,+TX+78730&amp;gl=us&amp;ei=CFNbUvPCG6m52QXY7IGICA&amp;ved=0CD8Q8gEwAg</a></p><p>If you need an accommodation to participate in this event, please contact the event
                                          event sponsor or the Texas Law Special Events Office at <a href="mailto:specialevents@law.utexas.edu">specialevents@law.utexas.edu</a> no later than seven business days prior to the event.</p>
CATEGORIES:Other
LOCATION:Turkey Creek Trail
URL:http://law.utexas.edu/calendar/2013/10/19/17624/
CLASS:PUBLIC
STATUS:CONFIRMED

END:VEVENT
END:VCALENDAR