BEGIN:VCALENDAR
VERSION:2.0
PRODID:-//UNIVERSITY OF TEXAS SCHOOL OF LAW//NONSGML Events Calendar v1.0//EN
X-WR-TIMEZONE:America/Chicago
BEGIN:VTIMEZONE
TZID:US/Central
X-LIC-LOCATION:America/Chicago
BEGIN:DAYLIGHT
TZOFFSETFROM:-0600
TZOFFSETTO:-0500
TZNAME:CDT
DTSTART:19700308T020000
RRULE:FREQ=YEARLY;BYMONTH=3;BYDAY=2SU
END:DAYLIGHT
BEGIN:STANDARD
TZOFFSETFROM:-0500
TZOFFSETTO:-0600
TZNAME:CST
DTSTART:19701101T020000
RRULE:FREQ=YEARLY;BYMONTH=11;BYDAY=1SU
END:STANDARD
END:VTIMEZONE
BEGIN:VEVENT
DTSTART;TZID=US/Central:20131114T120000
DTEND;VALUE=DATE-TIME;TZID=US/Central:20131114T130000

DTSTAMP:20260422T031400Z
CREATED:20131015T182900Z
LAST-MODIFIED:20131029T171000Z
UID:20131114T120000-17665@law.utexas.edu
SUMMARY:TJCLCR Fall Publication Preview
DESCRIPTION:<p>TJCLCR's Fall Edition authors join us for a discussion of this fall's edition</p>\n\nIf you need an accommodation to participate in this event, please contact the event sponsor or the Texas Law Special Events Office at specialevents@law.utexas.edu no later than seven business days prior to the event.
X-ALT-DESC;FMTTYPE=text/html:<p>TJCLCR's Fall Edition authors join us for a discussion of this fall's edition</p><p>If you need an accommodation to participate in this event, please contact the event
                                          event sponsor or the Texas Law Special Events Office at <a href="mailto:specialevents@law.utexas.edu">specialevents@law.utexas.edu</a> no later than seven business days prior to the event.</p>
CATEGORIES:Panel Discussion / Speaker Series
LOCATION:JON 6.206 - Susman Academic Center, The Judge William W. and Margaret R. Kilgarlin Chambers
URL:http://law.utexas.edu/calendar/2013/11/14/17665/
CLASS:PUBLIC
STATUS:CONFIRMED

END:VEVENT
END:VCALENDAR