BEGIN:VCALENDAR
VERSION:2.0
PRODID:-//UNIVERSITY OF TEXAS SCHOOL OF LAW//NONSGML Events Calendar v1.0//EN
X-WR-TIMEZONE:America/Chicago
BEGIN:VTIMEZONE
TZID:US/Central
X-LIC-LOCATION:America/Chicago
BEGIN:DAYLIGHT
TZOFFSETFROM:-0600
TZOFFSETTO:-0500
TZNAME:CDT
DTSTART:19700308T020000
RRULE:FREQ=YEARLY;BYMONTH=3;BYDAY=2SU
END:DAYLIGHT
BEGIN:STANDARD
TZOFFSETFROM:-0500
TZOFFSETTO:-0600
TZNAME:CST
DTSTART:19701101T020000
RRULE:FREQ=YEARLY;BYMONTH=11;BYDAY=1SU
END:STANDARD
END:VTIMEZONE
BEGIN:VEVENT
DTSTART;TZID=US/Central:20131114T114500
DTEND;VALUE=DATE-TIME;TZID=US/Central:20131114T124500

DTSTAMP:20260422T031300Z
CREATED:20131108T154700Z
LAST-MODIFIED:20131109T021200Z
UID:20131114T114500-17902@law.utexas.edu
SUMMARY:Public Interest Summer Jobs Panel
DESCRIPTION:<p>Interested in getting a public interest summer internship? Come hear from students who have done public interest work talk about their experiences! Students who have worked at public interest jobs this summer will be sitting on a panel to discuss their experiences and answer any questions you may have about public interest jobs and the public interest community in general. All class levels welcome, and pizza will be served! Hosted by the Public Interest Law Association.</p> 
  <p>11:45 a.m. - 12:45 p.m. 
  Fleming Room (under the stairwell in George's)</p>\n\nIf you need an accommodation to participate in this event, please contact the event sponsor or the Texas Law Special Events Office at specialevents@law.utexas.edu no later than seven business days prior to the event.
X-ALT-DESC;FMTTYPE=text/html:<p>Interested in getting a public interest summer internship? Come hear from students who have done public interest work talk about their experiences! Students who have worked at public interest jobs this summer will be sitting on a panel to discuss their experiences and answer any questions you may have about public interest jobs and the public interest community in general. All class levels welcome, and pizza will be served! Hosted by the Public Interest Law Association.</p> 
  <p>11:45 a.m. - 12:45 p.m. 
  Fleming Room (under the stairwell in George's)</p><p>If you need an accommodation to participate in this event, please contact the event
                                          event sponsor or the Texas Law Special Events Office at <a href="mailto:specialevents@law.utexas.edu">specialevents@law.utexas.edu</a> no later than seven business days prior to the event.</p>
CATEGORIES:Panel Discussion / Speaker Series
LOCATION:Fleming Room
URL:http://law.utexas.edu/calendar/2013/11/14/17902/
CLASS:PUBLIC
STATUS:CONFIRMED
COMMENT:paigebarmstrong@gmail.com
END:VEVENT
END:VCALENDAR