BEGIN:VCALENDAR
VERSION:2.0
PRODID:-//UNIVERSITY OF TEXAS SCHOOL OF LAW//NONSGML Events Calendar v1.0//EN
X-WR-TIMEZONE:America/Chicago
BEGIN:VTIMEZONE
TZID:US/Central
X-LIC-LOCATION:America/Chicago
BEGIN:DAYLIGHT
TZOFFSETFROM:-0600
TZOFFSETTO:-0500
TZNAME:CDT
DTSTART:19700308T020000
RRULE:FREQ=YEARLY;BYMONTH=3;BYDAY=2SU
END:DAYLIGHT
BEGIN:STANDARD
TZOFFSETFROM:-0500
TZOFFSETTO:-0600
TZNAME:CST
DTSTART:19701101T020000
RRULE:FREQ=YEARLY;BYMONTH=11;BYDAY=1SU
END:STANDARD
END:VTIMEZONE
BEGIN:VEVENT
DTSTART;TZID=US/Central:20131115T114500
DTEND;VALUE=DATE-TIME;TZID=US/Central:20131115T131500

DTSTAMP:20260422T015300Z
CREATED:20131029T155000Z
LAST-MODIFIED:20131029T155000Z
UID:20131115T114500-17808@law.utexas.edu
SUMMARY:CANCELED: Change It Up Brown Bag: Social Justice
DESCRIPTION:<p>Please join a panel of practitioners and students as they discuss social change work in underserved areas, including the benefits and challenges of venturing beyond major urban centers for summer internships and to start a career.  Lunch will be provided.  Please RSVP by noon on Wednesday, November 13th to Rachel Sidopulos, RSidopulos@law.utexas.edu.</p>
  <p>Sponsored by the William Wayne Justice Center for Public Interest Law.
  </p>\n\nIf you need an accommodation to participate in this event, please contact the event sponsor or the Texas Law Special Events Office at specialevents@law.utexas.edu no later than seven business days prior to the event.
X-ALT-DESC;FMTTYPE=text/html:<p>Please join a panel of practitioners and students as they discuss social change work in underserved areas, including the benefits and challenges of venturing beyond major urban centers for summer internships and to start a career.  Lunch will be provided.  Please RSVP by noon on Wednesday, November 13th to Rachel Sidopulos, RSidopulos@law.utexas.edu.</p>
  <p>Sponsored by the William Wayne Justice Center for Public Interest Law.
  </p><p>If you need an accommodation to participate in this event, please contact the event
                                          event sponsor or the Texas Law Special Events Office at <a href="mailto:specialevents@law.utexas.edu">specialevents@law.utexas.edu</a> no later than seven business days prior to the event.</p>
CATEGORIES:Other
LOCATION:TNH 3.127 - Roberts Classroom
URL:http://law.utexas.edu/calendar/2013/11/15/17808/
CLASS:PUBLIC
STATUS:CANCELLED

END:VEVENT
END:VCALENDAR