BEGIN:VCALENDAR
VERSION:2.0
PRODID:-//UNIVERSITY OF TEXAS SCHOOL OF LAW//NONSGML Events Calendar v1.0//EN
X-WR-TIMEZONE:America/Chicago
BEGIN:VTIMEZONE
TZID:US/Central
X-LIC-LOCATION:America/Chicago
BEGIN:DAYLIGHT
TZOFFSETFROM:-0600
TZOFFSETTO:-0500
TZNAME:CDT
DTSTART:19700308T020000
RRULE:FREQ=YEARLY;BYMONTH=3;BYDAY=2SU
END:DAYLIGHT
BEGIN:STANDARD
TZOFFSETFROM:-0500
TZOFFSETTO:-0600
TZNAME:CST
DTSTART:19701101T020000
RRULE:FREQ=YEARLY;BYMONTH=11;BYDAY=1SU
END:STANDARD
END:VTIMEZONE
BEGIN:VEVENT
DTSTART;TZID=US/Central:20131122T114500
DTEND;VALUE=DATE-TIME;TZID=US/Central:20131122T131500

DTSTAMP:20260422T031300Z
CREATED:20131113T162100Z
LAST-MODIFIED:20131113T162100Z
UID:20131122T114500-17963@law.utexas.edu
SUMMARY:Change It Up!: Speed Networking
DESCRIPTION:<p>Change It Up!: Speed Networking
  Friday, 11/22 | 11:45 - 1:15
  JON 5.208</p>
  <p>Join social change minded UT Law upperclassmen for an hour of speed networking. Learn about what summer jobs upperclassmen students interested in social change have pursued, how they got those jobs, and the application timelines during several short, one-on-one speed networking rounds.</p>
  <p>Please RSVP to kali.cohn@gmail.com by Thursday, September 21 at 3:00pm.</p>
  <p>Sponsored by the William Wayne Justice Center.</p>
  <p>And supported by: Abuse Survivors Assistance Program, American Constitution Society, Austin Lawyers Guild, Chicano/Hispanic Law Association, Environmental Law Society, Health Law &amp; Bioethics Society, Human Rights Law Society, Law Students for Reproductive Justice, Public Interest Law Association, Student Animal Legal Defense Fund, Street Law, Texas Hispanic Journal of Law and Policy, Texas Journal on Civil Liberties &amp; Civil Rights, Texas Law Fellowships
  </p>\n\nIf you need an accommodation to participate in this event, please contact the event sponsor or the Texas Law Special Events Office at specialevents@law.utexas.edu no later than seven business days prior to the event.
X-ALT-DESC;FMTTYPE=text/html:<p>Change It Up!: Speed Networking
  Friday, 11/22 | 11:45 - 1:15
  JON 5.208</p>
  <p>Join social change minded UT Law upperclassmen for an hour of speed networking. Learn about what summer jobs upperclassmen students interested in social change have pursued, how they got those jobs, and the application timelines during several short, one-on-one speed networking rounds.</p>
  <p>Please RSVP to kali.cohn@gmail.com by Thursday, September 21 at 3:00pm.</p>
  <p>Sponsored by the William Wayne Justice Center.</p>
  <p>And supported by: Abuse Survivors Assistance Program, American Constitution Society, Austin Lawyers Guild, Chicano/Hispanic Law Association, Environmental Law Society, Health Law &amp; Bioethics Society, Human Rights Law Society, Law Students for Reproductive Justice, Public Interest Law Association, Student Animal Legal Defense Fund, Street Law, Texas Hispanic Journal of Law and Policy, Texas Journal on Civil Liberties &amp; Civil Rights, Texas Law Fellowships
  </p><p>If you need an accommodation to participate in this event, please contact the event
                                          event sponsor or the Texas Law Special Events Office at <a href="mailto:specialevents@law.utexas.edu">specialevents@law.utexas.edu</a> no later than seven business days prior to the event.</p>
CATEGORIES:Other
LOCATION:JON 5.208 - Susman Academic Center, Bryan and Michelle Goolsby Conference Suite
URL:http://law.utexas.edu/calendar/2013/11/22/17963/
CLASS:PUBLIC
STATUS:CONFIRMED

END:VEVENT
END:VCALENDAR