BEGIN:VCALENDAR
VERSION:2.0
PRODID:-//UNIVERSITY OF TEXAS SCHOOL OF LAW//NONSGML Events Calendar v1.0//EN
X-WR-TIMEZONE:America/Chicago
BEGIN:VTIMEZONE
TZID:US/Central
X-LIC-LOCATION:America/Chicago
BEGIN:DAYLIGHT
TZOFFSETFROM:-0600
TZOFFSETTO:-0500
TZNAME:CDT
DTSTART:19700308T020000
RRULE:FREQ=YEARLY;BYMONTH=3;BYDAY=2SU
END:DAYLIGHT
BEGIN:STANDARD
TZOFFSETFROM:-0500
TZOFFSETTO:-0600
TZNAME:CST
DTSTART:19701101T020000
RRULE:FREQ=YEARLY;BYMONTH=11;BYDAY=1SU
END:STANDARD
END:VTIMEZONE
BEGIN:VEVENT
DTSTART;TZID=US/Central:20131122


DTSTAMP:20260422T015200Z
CREATED:20131118T151400Z
LAST-MODIFIED:20131118T151400Z
UID:20131122T000000-18010@law.utexas.edu
SUMMARY:ASAP Thanksgiving-themed Bake Sale
DESCRIPTION:<p>ASAP is having a bake sale with a twist--the focus will be on traditional fall and Thanksgiving flavors like pecan, maple, cranberry, pumpkin, gingerbread, and orange...YUM!</p>
  <p>The sale will be held Nov 18 through Nov 22 in the Atrium, from 1030 to 2 each day.</p>\n\nIf you need an accommodation to participate in this event, please contact the event sponsor or the Texas Law Special Events Office at specialevents@law.utexas.edu no later than seven business days prior to the event.
X-ALT-DESC;FMTTYPE=text/html:<p>ASAP is having a bake sale with a twist--the focus will be on traditional fall and Thanksgiving flavors like pecan, maple, cranberry, pumpkin, gingerbread, and orange...YUM!</p>
  <p>The sale will be held Nov 18 through Nov 22 in the Atrium, from 1030 to 2 each day.</p><p>If you need an accommodation to participate in this event, please contact the event
                                          event sponsor or the Texas Law Special Events Office at <a href="mailto:specialevents@law.utexas.edu">specialevents@law.utexas.edu</a> no later than seven business days prior to the event.</p>
CATEGORIES:Other
LOCATION:TNH 2.100 - Susman Godfrey Atrium
URL:http://law.utexas.edu/calendar/2013/11/22/18010/
CLASS:PUBLIC
STATUS:CONFIRMED

END:VEVENT
END:VCALENDAR