BEGIN:VCALENDAR
VERSION:2.0
PRODID:-//UNIVERSITY OF TEXAS SCHOOL OF LAW//NONSGML Events Calendar v1.0//EN
X-WR-TIMEZONE:America/Chicago
BEGIN:VTIMEZONE
TZID:US/Central
X-LIC-LOCATION:America/Chicago
BEGIN:DAYLIGHT
TZOFFSETFROM:-0600
TZOFFSETTO:-0500
TZNAME:CDT
DTSTART:19700308T020000
RRULE:FREQ=YEARLY;BYMONTH=3;BYDAY=2SU
END:DAYLIGHT
BEGIN:STANDARD
TZOFFSETFROM:-0500
TZOFFSETTO:-0600
TZNAME:CST
DTSTART:19701101T020000
RRULE:FREQ=YEARLY;BYMONTH=11;BYDAY=1SU
END:STANDARD
END:VTIMEZONE
BEGIN:VEVENT
DTSTART;TZID=US/Central:20131124T090000
DTEND;VALUE=DATE-TIME;TZID=US/Central:20131124T133000

DTSTAMP:20260422T031400Z
CREATED:20130723T145700Z
LAST-MODIFIED:20131120T185600Z
UID:20131124T090000-17020@law.utexas.edu
SUMMARY:Sexual Citizenship and Human Rights
DESCRIPTION:<p>The conference will focus on several difficult issues at the intersection of sexual self-determination and human rights, including same-sex marriage and family, the potential and limits of anti-discrimination laws, transgender rights, sex work and trafficking, youth sexuality, pornography as it affects minors, and the regulation of sex offenders. Individual papers will explore European and American attitudes and practices on each of these issues, with the goal of presenting new conceptual paradigms for future reform efforts. The conference brings together academics, practicing attorneys and therapists, state policy makers, and activists from various points of view.</p>\n\nIf you need an accommodation to participate in this event, please contact the event sponsor or the Texas Law Special Events Office at specialevents@law.utexas.edu no later than seven business days prior to the event.
X-ALT-DESC;FMTTYPE=text/html:<p>The conference will focus on several difficult issues at the intersection of sexual self-determination and human rights, including same-sex marriage and family, the potential and limits of anti-discrimination laws, transgender rights, sex work and trafficking, youth sexuality, pornography as it affects minors, and the regulation of sex offenders. Individual papers will explore European and American attitudes and practices on each of these issues, with the goal of presenting new conceptual paradigms for future reform efforts. The conference brings together academics, practicing attorneys and therapists, state policy makers, and activists from various points of view.</p><p>If you need an accommodation to participate in this event, please contact the event
                                          event sponsor or the Texas Law Special Events Office at <a href="mailto:specialevents@law.utexas.edu">specialevents@law.utexas.edu</a> no later than seven business days prior to the event.</p>
CATEGORIES:Symposium
LOCATION:CCJ 2.306 - Eidman Courtroom
URL:http://law.utexas.edu/calendar/2013/11/24/17020/
CLASS:PUBLIC
STATUS:CONFIRMED

END:VEVENT
END:VCALENDAR