BEGIN:VCALENDAR
VERSION:2.0
PRODID:-//UNIVERSITY OF TEXAS SCHOOL OF LAW//NONSGML Events Calendar v1.0//EN
X-WR-TIMEZONE:America/Chicago
BEGIN:VTIMEZONE
TZID:US/Central
X-LIC-LOCATION:America/Chicago
BEGIN:DAYLIGHT
TZOFFSETFROM:-0600
TZOFFSETTO:-0500
TZNAME:CDT
DTSTART:19700308T020000
RRULE:FREQ=YEARLY;BYMONTH=3;BYDAY=2SU
END:DAYLIGHT
BEGIN:STANDARD
TZOFFSETFROM:-0500
TZOFFSETTO:-0600
TZNAME:CST
DTSTART:19701101T020000
RRULE:FREQ=YEARLY;BYMONTH=11;BYDAY=1SU
END:STANDARD
END:VTIMEZONE
BEGIN:VEVENT
DTSTART;TZID=US/Central:20131211T120000


DTSTAMP:20260422T044800Z
CREATED:20131113T235300Z
LAST-MODIFIED:20131113T235300Z
UID:20131211T120000-17964@law.utexas.edu
SUMMARY:PSCF - Student Bidding Begins
DESCRIPTION:<p>Hosted annually by the UT Law Career Services Office, <a href="https://www.utexas.edu/law/career/fairs/pscd.html">Public Service Career Fair (PSCF)</a> is the largest public service job fair for law students in Texas. Student bidding begins on Wednesday, December 11, 2013 and ends on Friday, January 3, 2014 at noon.</p>
  <p>During both days of the Fair, which will be held January 30-31, 2014, public interest and government employers will conduct on-campus interviews for paid and unpaid summer and permanent positions. On Thursday, January 30, 2014 certain employers will also host informational tables in the Law School's Susman Godfrey Atrium from 10:30 a.m.-1:30 p.m. as part of Public Service Table Talk.</p>
  <p>First, second, third-year and/or domestic or foreign-trained LL.M. students and recent graduates (up to one year after graduation) are eligible to participate in this program. You must first register to use the <a title="Texas Consortium Symplicity" href="https://law-tx-csm.symplicity.com/students/">Texas Consortium Symplicity Module</a>, which is a different module than the UT Law Symplicity.
  </p>\n\nIf you need an accommodation to participate in this event, please contact the event sponsor or the Texas Law Special Events Office at specialevents@law.utexas.edu no later than seven business days prior to the event.
X-ALT-DESC;FMTTYPE=text/html:<p>Hosted annually by the UT Law Career Services Office, <a href="https://www.utexas.edu/law/career/fairs/pscd.html">Public Service Career Fair (PSCF)</a> is the largest public service job fair for law students in Texas. Student bidding begins on Wednesday, December 11, 2013 and ends on Friday, January 3, 2014 at noon.</p>
  <p>During both days of the Fair, which will be held January 30-31, 2014, public interest and government employers will conduct on-campus interviews for paid and unpaid summer and permanent positions. On Thursday, January 30, 2014 certain employers will also host informational tables in the Law School's Susman Godfrey Atrium from 10:30 a.m.-1:30 p.m. as part of Public Service Table Talk.</p>
  <p>First, second, third-year and/or domestic or foreign-trained LL.M. students and recent graduates (up to one year after graduation) are eligible to participate in this program. You must first register to use the <a title="Texas Consortium Symplicity" href="https://law-tx-csm.symplicity.com/students/">Texas Consortium Symplicity Module</a>, which is a different module than the UT Law Symplicity.
  </p><p>If you need an accommodation to participate in this event, please contact the event
                                          event sponsor or the Texas Law Special Events Office at <a href="mailto:specialevents@law.utexas.edu">specialevents@law.utexas.edu</a> no later than seven business days prior to the event.</p>
CATEGORIES:Interview Program

URL:http://law.utexas.edu/calendar/2013/12/11/17964/
CLASS:PUBLIC
STATUS:CONFIRMED
COMMENT:Please contact James Cardenas, Programs Coordinator, at 512-232-7110 or <a href="mailto:jcardenas@law.utexas.edu">jcardenas@law.utexas.edu</a>.
END:VEVENT
END:VCALENDAR