BEGIN:VCALENDAR
VERSION:2.0
PRODID:-//UNIVERSITY OF TEXAS SCHOOL OF LAW//NONSGML Events Calendar v1.0//EN
X-WR-TIMEZONE:America/Chicago
BEGIN:VTIMEZONE
TZID:US/Central
X-LIC-LOCATION:America/Chicago
BEGIN:DAYLIGHT
TZOFFSETFROM:-0600
TZOFFSETTO:-0500
TZNAME:CDT
DTSTART:19700308T020000
RRULE:FREQ=YEARLY;BYMONTH=3;BYDAY=2SU
END:DAYLIGHT
BEGIN:STANDARD
TZOFFSETFROM:-0500
TZOFFSETTO:-0600
TZNAME:CST
DTSTART:19701101T020000
RRULE:FREQ=YEARLY;BYMONTH=11;BYDAY=1SU
END:STANDARD
END:VTIMEZONE
BEGIN:VEVENT
DTSTART;TZID=US/Central:20140114T114500
DTEND;VALUE=DATE-TIME;TZID=US/Central:20140114T124500

DTSTAMP:20260422T002400Z
CREATED:20140106T174000Z
LAST-MODIFIED:20140109T201300Z
UID:20140114T114500-18257@law.utexas.edu
SUMMARY:Straight Talk: Five Tips for 1Ls
DESCRIPTION:<p>Have your questions regarding the spring recruiting season answered by CSO Career Counselors. We will discuss the do's and don'ts of networking and interviewing, including professionalism, relationship building, etiquette, and attire. Lunch will be served. RSVP by Monday, January 13, on <a title="UT Law Symplicity" href="https://law-utexas-csm.symplicity.com/students/">UT Law Symplicity</a> by selecting the 'Events' tab.</p>\n\nIf you need an accommodation to participate in this event, please contact the event sponsor or the Texas Law Special Events Office at specialevents@law.utexas.edu no later than seven business days prior to the event.
X-ALT-DESC;FMTTYPE=text/html:<p>Have your questions regarding the spring recruiting season answered by CSO Career Counselors. We will discuss the do's and don'ts of networking and interviewing, including professionalism, relationship building, etiquette, and attire. Lunch will be served. RSVP by Monday, January 13, on <a title="UT Law Symplicity" href="https://law-utexas-csm.symplicity.com/students/">UT Law Symplicity</a> by selecting the 'Events' tab.</p><p>If you need an accommodation to participate in this event, please contact the event
                                          event sponsor or the Texas Law Special Events Office at <a href="mailto:specialevents@law.utexas.edu">specialevents@law.utexas.edu</a> no later than seven business days prior to the event.</p>
CATEGORIES:Workshop / Training Program
LOCATION:TNH 2.114 - Francis Auditorium
URL:http://law.utexas.edu/calendar/2014/01/14/18257/
CLASS:PUBLIC
STATUS:CONFIRMED
COMMENT:Please contact Denyse Demel, Government Career Counselor, at 512-232-1162 or <a href="mailto:ddemel@law.utexas.edu">ddemel@law.utexas.edu</a>.
END:VEVENT
END:VCALENDAR