BEGIN:VCALENDAR
VERSION:2.0
PRODID:-//UNIVERSITY OF TEXAS SCHOOL OF LAW//NONSGML Events Calendar v1.0//EN
X-WR-TIMEZONE:America/Chicago
BEGIN:VTIMEZONE
TZID:US/Central
X-LIC-LOCATION:America/Chicago
BEGIN:DAYLIGHT
TZOFFSETFROM:-0600
TZOFFSETTO:-0500
TZNAME:CDT
DTSTART:19700308T020000
RRULE:FREQ=YEARLY;BYMONTH=3;BYDAY=2SU
END:DAYLIGHT
BEGIN:STANDARD
TZOFFSETFROM:-0500
TZOFFSETTO:-0600
TZNAME:CST
DTSTART:19701101T020000
RRULE:FREQ=YEARLY;BYMONTH=11;BYDAY=1SU
END:STANDARD
END:VTIMEZONE
BEGIN:VEVENT
DTSTART;TZID=US/Central:20140115T114500
DTEND;VALUE=DATE-TIME;TZID=US/Central:20140115T124500

DTSTAMP:20260421T225100Z
CREATED:20140108T200400Z
LAST-MODIFIED:20140114T015900Z
UID:20140115T114500-18262@law.utexas.edu
SUMMARY:1L Session: Grades Are In - Now What?
DESCRIPTION:<p>Your first semester grades are in. Now what? Dean Bangs and Brandi Welch will discuss your grades, your reaction and where to go from here. Whether you were satisfied or not, there are a few strategies all law students may attempt to better performance in the Spring. We'll also discuss how to approach professors with questions about exam answers. Session repeats Friday at 1:15pm in TNH 2.137. </p>\n\nIf you need an accommodation to participate in this event, please contact the event sponsor or the Texas Law Special Events Office at specialevents@law.utexas.edu no later than seven business days prior to the event.
X-ALT-DESC;FMTTYPE=text/html:<p>Your first semester grades are in. Now what? Dean Bangs and Brandi Welch will discuss your grades, your reaction and where to go from here. Whether you were satisfied or not, there are a few strategies all law students may attempt to better performance in the Spring. We'll also discuss how to approach professors with questions about exam answers. Session repeats Friday at 1:15pm in TNH 2.137. </p><p>If you need an accommodation to participate in this event, please contact the event
                                          event sponsor or the Texas Law Special Events Office at <a href="mailto:specialevents@law.utexas.edu">specialevents@law.utexas.edu</a> no later than seven business days prior to the event.</p>
CATEGORIES:Workshop / Training Program
LOCATION:TNH 2.140 - Wright Classroom
URL:http://law.utexas.edu/calendar/2014/01/15/18262/
CLASS:PUBLIC
STATUS:CONFIRMED

END:VEVENT
END:VCALENDAR