BEGIN:VCALENDAR
VERSION:2.0
PRODID:-//UNIVERSITY OF TEXAS SCHOOL OF LAW//NONSGML Events Calendar v1.0//EN
X-WR-TIMEZONE:America/Chicago
BEGIN:VTIMEZONE
TZID:US/Central
X-LIC-LOCATION:America/Chicago
BEGIN:DAYLIGHT
TZOFFSETFROM:-0600
TZOFFSETTO:-0500
TZNAME:CDT
DTSTART:19700308T020000
RRULE:FREQ=YEARLY;BYMONTH=3;BYDAY=2SU
END:DAYLIGHT
BEGIN:STANDARD
TZOFFSETFROM:-0500
TZOFFSETTO:-0600
TZNAME:CST
DTSTART:19701101T020000
RRULE:FREQ=YEARLY;BYMONTH=11;BYDAY=1SU
END:STANDARD
END:VTIMEZONE
BEGIN:VEVENT
DTSTART;TZID=US/Central:20140116T090000
DTEND;VALUE=DATE-TIME;TZID=US/Central:20140116T103000

DTSTAMP:20260421T211300Z
CREATED:20131120T211800Z
LAST-MODIFIED:20140114T215100Z
UID:20140116T090000-18050@law.utexas.edu
SUMMARY:George Bermann Breakfast
DESCRIPTION:<p>Students are invited to have breakfast with international arbitration expert George Bermann. Professor Bermann is the Walter Gelhorn Professor of Law, the Jean Monnet Professor of European Union Law, the Director of the Center for International Commercial and Investment Arbitration Law, and the Co-Director of the European Legal Studies Center at Columbia Law School.</p>
  <p>Breakfast will be provided.</p>
  <p>Please RSVP to Gena Dawson at gdawson@law.utexas.edu.</p>\n\nIf you need an accommodation to participate in this event, please contact the event sponsor or the Texas Law Special Events Office at specialevents@law.utexas.edu no later than seven business days prior to the event.
X-ALT-DESC;FMTTYPE=text/html:<p>Students are invited to have breakfast with international arbitration expert George Bermann. Professor Bermann is the Walter Gelhorn Professor of Law, the Jean Monnet Professor of European Union Law, the Director of the Center for International Commercial and Investment Arbitration Law, and the Co-Director of the European Legal Studies Center at Columbia Law School.</p>
  <p>Breakfast will be provided.</p>
  <p>Please RSVP to Gena Dawson at gdawson@law.utexas.edu.</p><p>If you need an accommodation to participate in this event, please contact the event
                                          event sponsor or the Texas Law Special Events Office at <a href="mailto:specialevents@law.utexas.edu">specialevents@law.utexas.edu</a> no later than seven business days prior to the event.</p>
CATEGORIES:Breakfast
LOCATION:TNH 3.119 Conference Room(3.119F)
URL:http://law.utexas.edu/calendar/2014/01/16/18050/
CLASS:PUBLIC
STATUS:CONFIRMED

END:VEVENT
END:VCALENDAR