BEGIN:VCALENDAR
VERSION:2.0
PRODID:-//UNIVERSITY OF TEXAS SCHOOL OF LAW//NONSGML Events Calendar v1.0//EN
X-WR-TIMEZONE:America/Chicago
BEGIN:VTIMEZONE
TZID:US/Central
X-LIC-LOCATION:America/Chicago
BEGIN:DAYLIGHT
TZOFFSETFROM:-0600
TZOFFSETTO:-0500
TZNAME:CDT
DTSTART:19700308T020000
RRULE:FREQ=YEARLY;BYMONTH=3;BYDAY=2SU
END:DAYLIGHT
BEGIN:STANDARD
TZOFFSETFROM:-0500
TZOFFSETTO:-0600
TZNAME:CST
DTSTART:19701101T020000
RRULE:FREQ=YEARLY;BYMONTH=11;BYDAY=1SU
END:STANDARD
END:VTIMEZONE
BEGIN:VEVENT
DTSTART;TZID=US/Central:20140117


DTSTAMP:20260421T211200Z
CREATED:20131114T000000Z
LAST-MODIFIED:20131114T000000Z
UID:20140117T000000-17967@law.utexas.edu
SUMMARY:PSCF - Preselect Scheduling Ends
DESCRIPTION:<p>Preselected students must accept/decline interviews by noon via the <a href="https://law-tx-csm.symplicity.com/students/">Texas Consortium Symplicity Module</a> for Public Service Career Fair, which is the largest public service job fair for law students in Texas.</p>
  <p>Alternate students may begin scheduling available interviews at 1:00 p.m. Alternate scheduling is on a first-come, first-served basis.
  </p>\n\nIf you need an accommodation to participate in this event, please contact the event sponsor or the Texas Law Special Events Office at specialevents@law.utexas.edu no later than seven business days prior to the event.
X-ALT-DESC;FMTTYPE=text/html:<p>Preselected students must accept/decline interviews by noon via the <a href="https://law-tx-csm.symplicity.com/students/">Texas Consortium Symplicity Module</a> for Public Service Career Fair, which is the largest public service job fair for law students in Texas.</p>
  <p>Alternate students may begin scheduling available interviews at 1:00 p.m. Alternate scheduling is on a first-come, first-served basis.
  </p><p>If you need an accommodation to participate in this event, please contact the event
                                          event sponsor or the Texas Law Special Events Office at <a href="mailto:specialevents@law.utexas.edu">specialevents@law.utexas.edu</a> no later than seven business days prior to the event.</p>
CATEGORIES:Interview Program

URL:http://law.utexas.edu/calendar/2014/01/17/17967/
CLASS:PUBLIC
STATUS:CONFIRMED
COMMENT:Please contact James Cardenas, Programs Coordinator, at 512-232-7110 or <a href="mailto:jcardenas@law.utexas.edu">jcardenas@law.utexas.edu</a>.
END:VEVENT
END:VCALENDAR