BEGIN:VCALENDAR
VERSION:2.0
PRODID:-//UNIVERSITY OF TEXAS SCHOOL OF LAW//NONSGML Events Calendar v1.0//EN
X-WR-TIMEZONE:America/Chicago
BEGIN:VTIMEZONE
TZID:US/Central
X-LIC-LOCATION:America/Chicago
BEGIN:DAYLIGHT
TZOFFSETFROM:-0600
TZOFFSETTO:-0500
TZNAME:CDT
DTSTART:19700308T020000
RRULE:FREQ=YEARLY;BYMONTH=3;BYDAY=2SU
END:DAYLIGHT
BEGIN:STANDARD
TZOFFSETFROM:-0500
TZOFFSETTO:-0600
TZNAME:CST
DTSTART:19701101T020000
RRULE:FREQ=YEARLY;BYMONTH=11;BYDAY=1SU
END:STANDARD
END:VTIMEZONE
BEGIN:VEVENT
DTSTART;TZID=US/Central:20140117
DTEND;TZID=US/Central:20140118
X-MICROSOFT-CDO-ALLDAYEVENT:TRUE
X-FUNAMBOL-ALLDAY:TRUE
DTSTAMP:20260421T225100Z
CREATED:20140113T155800Z
LAST-MODIFIED:20140113T155800Z
UID:20140117T000000-18312@law.utexas.edu
SUMMARY:TJWL Spring Write-On
DESCRIPTION:<p>The Texas Journal of Women and the Law is now accepting membership applications for the 2014-2015 school year! </p>
  <p>
  Please contact Miki Alvarado at missmiki@utexas.edu for an application or with any questions you may have about the journal. </p>
  <p>
  Spring applications will be due on January 26 at 11:59pm. </p>\n\nIf you need an accommodation to participate in this event, please contact the event sponsor or the Texas Law Special Events Office at specialevents@law.utexas.edu no later than seven business days prior to the event.
X-ALT-DESC;FMTTYPE=text/html:<p>The Texas Journal of Women and the Law is now accepting membership applications for the 2014-2015 school year! </p>
  <p>
  Please contact Miki Alvarado at missmiki@utexas.edu for an application or with any questions you may have about the journal. </p>
  <p>
  Spring applications will be due on January 26 at 11:59pm. </p><p>If you need an accommodation to participate in this event, please contact the event
                                          event sponsor or the Texas Law Special Events Office at <a href="mailto:specialevents@law.utexas.edu">specialevents@law.utexas.edu</a> no later than seven business days prior to the event.</p>
CATEGORIES:Other

URL:http://law.utexas.edu/calendar/2014/01/17/18312/
CLASS:PUBLIC
STATUS:CONFIRMED

END:VEVENT
END:VCALENDAR