BEGIN:VCALENDAR
VERSION:2.0
PRODID:-//UNIVERSITY OF TEXAS SCHOOL OF LAW//NONSGML Events Calendar v1.0//EN
X-WR-TIMEZONE:America/Chicago
BEGIN:VTIMEZONE
TZID:US/Central
X-LIC-LOCATION:America/Chicago
BEGIN:DAYLIGHT
TZOFFSETFROM:-0600
TZOFFSETTO:-0500
TZNAME:CDT
DTSTART:19700308T020000
RRULE:FREQ=YEARLY;BYMONTH=3;BYDAY=2SU
END:DAYLIGHT
BEGIN:STANDARD
TZOFFSETFROM:-0500
TZOFFSETTO:-0600
TZNAME:CST
DTSTART:19701101T020000
RRULE:FREQ=YEARLY;BYMONTH=11;BYDAY=1SU
END:STANDARD
END:VTIMEZONE
BEGIN:VEVENT
DTSTART;TZID=US/Central:20140127


DTSTAMP:20260421T211300Z
CREATED:20140126T002200Z
LAST-MODIFIED:20140126T002200Z
UID:20140127T000000-18457@law.utexas.edu
SUMMARY:TJWL Spring Write-On
DESCRIPTION:<p>The Spring Write-On application deadline for the Texas Journal of Women and the Law has been extended to Friday, January 31, at 11:59pm. </p>
  <p>All UT-Law and LLM students are welcome to apply! </p>
  <p>Please contact Miki Alvarado at missmiki@utexas.edu for a 2014-2015 membership application or with any questions you may have about our journal. </p>\n\nIf you need an accommodation to participate in this event, please contact the event sponsor or the Texas Law Special Events Office at specialevents@law.utexas.edu no later than seven business days prior to the event.
X-ALT-DESC;FMTTYPE=text/html:<p>The Spring Write-On application deadline for the Texas Journal of Women and the Law has been extended to Friday, January 31, at 11:59pm. </p>
  <p>All UT-Law and LLM students are welcome to apply! </p>
  <p>Please contact Miki Alvarado at missmiki@utexas.edu for a 2014-2015 membership application or with any questions you may have about our journal. </p><p>If you need an accommodation to participate in this event, please contact the event
                                          event sponsor or the Texas Law Special Events Office at <a href="mailto:specialevents@law.utexas.edu">specialevents@law.utexas.edu</a> no later than seven business days prior to the event.</p>
CATEGORIES:Other

URL:http://law.utexas.edu/calendar/2014/01/27/18457/
CLASS:PUBLIC
STATUS:CONFIRMED

END:VEVENT
END:VCALENDAR