BEGIN:VCALENDAR
VERSION:2.0
PRODID:-//UNIVERSITY OF TEXAS SCHOOL OF LAW//NONSGML Events Calendar v1.0//EN
X-WR-TIMEZONE:America/Chicago
BEGIN:VTIMEZONE
TZID:US/Central
X-LIC-LOCATION:America/Chicago
BEGIN:DAYLIGHT
TZOFFSETFROM:-0600
TZOFFSETTO:-0500
TZNAME:CDT
DTSTART:19700308T020000
RRULE:FREQ=YEARLY;BYMONTH=3;BYDAY=2SU
END:DAYLIGHT
BEGIN:STANDARD
TZOFFSETFROM:-0500
TZOFFSETTO:-0600
TZNAME:CST
DTSTART:19701101T020000
RRULE:FREQ=YEARLY;BYMONTH=11;BYDAY=1SU
END:STANDARD
END:VTIMEZONE
BEGIN:VEVENT
DTSTART;TZID=US/Central:20140128T114500
DTEND;VALUE=DATE-TIME;TZID=US/Central:20140128T124500

DTSTAMP:20260421T210500Z
CREATED:20140109T185000Z
LAST-MODIFIED:20140110T155100Z
UID:20140128T114500-18273@law.utexas.edu
SUMMARY:CANCELED: Asian Legal Market
DESCRIPTION:<p>Robert Kinney of <a href="http://www.kinneyrecruiting.com/">Kinney Recruiting</a> will discuss opportunities for U.S.-trained attorneys in Asia. Lunch will be served. RSVP by Monday, January 27, on <a title="UT Law Symplicity" href="https://law-utexas-csm.symplicity.com/students/">UT Law Symplicity</a> by selecting the 'Events' tab.</p>
  <p>Part of the Career Exploration Series, which offers students an opportunity to learn more about different areas of the law and network with leading practitioners in these areas.</p>\n\nIf you need an accommodation to participate in this event, please contact the event sponsor or the Texas Law Special Events Office at specialevents@law.utexas.edu no later than seven business days prior to the event.
X-ALT-DESC;FMTTYPE=text/html:<p>Robert Kinney of <a href="http://www.kinneyrecruiting.com/">Kinney Recruiting</a> will discuss opportunities for U.S.-trained attorneys in Asia. Lunch will be served. RSVP by Monday, January 27, on <a title="UT Law Symplicity" href="https://law-utexas-csm.symplicity.com/students/">UT Law Symplicity</a> by selecting the 'Events' tab.</p>
  <p>Part of the Career Exploration Series, which offers students an opportunity to learn more about different areas of the law and network with leading practitioners in these areas.</p><p>If you need an accommodation to participate in this event, please contact the event
                                          event sponsor or the Texas Law Special Events Office at <a href="mailto:specialevents@law.utexas.edu">specialevents@law.utexas.edu</a> no later than seven business days prior to the event.</p>
CATEGORIES:Workshop / Training Program
LOCATION:TNH 3.124 - Neathery Classroom
URL:http://law.utexas.edu/calendar/2014/01/28/18273/
CLASS:PUBLIC
STATUS:CANCELLED
COMMENT:Please contact Natalie Aitken, Career Counselor, at 512-232-1162 or <a href="mailto:naitken@law.utexas.edu">naitken@law.utexas.edu</a>.
END:VEVENT
END:VCALENDAR