BEGIN:VCALENDAR
VERSION:2.0
PRODID:-//UNIVERSITY OF TEXAS SCHOOL OF LAW//NONSGML Events Calendar v1.0//EN
X-WR-TIMEZONE:America/Chicago
BEGIN:VTIMEZONE
TZID:US/Central
X-LIC-LOCATION:America/Chicago
BEGIN:DAYLIGHT
TZOFFSETFROM:-0600
TZOFFSETTO:-0500
TZNAME:CDT
DTSTART:19700308T020000
RRULE:FREQ=YEARLY;BYMONTH=3;BYDAY=2SU
END:DAYLIGHT
BEGIN:STANDARD
TZOFFSETFROM:-0500
TZOFFSETTO:-0600
TZNAME:CST
DTSTART:19701101T020000
RRULE:FREQ=YEARLY;BYMONTH=11;BYDAY=1SU
END:STANDARD
END:VTIMEZONE
BEGIN:VEVENT
DTSTART;TZID=US/Central:20140130T170000
DTEND;VALUE=DATE-TIME;TZID=US/Central:20140130T190000

DTSTAMP:20260421T210400Z
CREATED:20130725T204300Z
LAST-MODIFIED:20140123T215200Z
UID:20140130T170000-17028@law.utexas.edu
SUMMARY:Heather Gerken "The Loyal Opposition"
DESCRIPTION:<p>Prof Heather Gerken presents "The Loyal Opposition" sponsored by the Tom Sealy lecture series</p>
  <p>Attend “The Loyal Opposition,” a special presentation beginning at 5:30 p.m. by Heather Gerken, the J. Skelly Wright Professor of Law at Yale Law School. Gerken will discuss her research on democracy, including the importance of constructing institutions that allow for systematic dissent with a focus on American federalism. UT Austin professor of government and law Jeffrey Abramson will also offer comments on the subject. This endowed lecture is co-sponsored by the Department of Government and is preceded by a reception at 5 p.m. In the Jamail Pavilion outside the Eidman Courtroom.</p>\n\nIf you need an accommodation to participate in this event, please contact the event sponsor or the Texas Law Special Events Office at specialevents@law.utexas.edu no later than seven business days prior to the event. Speaker: Heather Gerken, P, Yale Law School
X-ALT-DESC;FMTTYPE=text/html:<p>Prof Heather Gerken presents "The Loyal Opposition" sponsored by the Tom Sealy lecture series</p>
  <p>Attend “The Loyal Opposition,” a special presentation beginning at 5:30 p.m. by Heather Gerken, the J. Skelly Wright Professor of Law at Yale Law School. Gerken will discuss her research on democracy, including the importance of constructing institutions that allow for systematic dissent with a focus on American federalism. UT Austin professor of government and law Jeffrey Abramson will also offer comments on the subject. This endowed lecture is co-sponsored by the Department of Government and is preceded by a reception at 5 p.m. In the Jamail Pavilion outside the Eidman Courtroom.</p><p>If you need an accommodation to participate in this event, please contact the event
                                          event sponsor or the Texas Law Special Events Office at <a href="mailto:specialevents@law.utexas.edu">specialevents@law.utexas.edu</a> no later than seven business days prior to the event.</p> Speaker: Heather Gerken, P, Yale Law School

LOCATION:CCJ 2.306 - Eidman Courtroom
URL:http://law.utexas.edu/calendar/2014/01/30/17028/
CLASS:PUBLIC
STATUS:CONFIRMED

END:VEVENT
END:VCALENDAR