BEGIN:VCALENDAR
VERSION:2.0
PRODID:-//UNIVERSITY OF TEXAS SCHOOL OF LAW//NONSGML Events Calendar v1.0//EN
X-WR-TIMEZONE:America/Chicago
BEGIN:VTIMEZONE
TZID:US/Central
X-LIC-LOCATION:America/Chicago
BEGIN:DAYLIGHT
TZOFFSETFROM:-0600
TZOFFSETTO:-0500
TZNAME:CDT
DTSTART:19700308T020000
RRULE:FREQ=YEARLY;BYMONTH=3;BYDAY=2SU
END:DAYLIGHT
BEGIN:STANDARD
TZOFFSETFROM:-0500
TZOFFSETTO:-0600
TZNAME:CST
DTSTART:19701101T020000
RRULE:FREQ=YEARLY;BYMONTH=11;BYDAY=1SU
END:STANDARD
END:VTIMEZONE
BEGIN:VEVENT
DTSTART;TZID=US/Central:20140130
DTEND;TZID=US/Central:20140131
X-MICROSOFT-CDO-ALLDAYEVENT:TRUE
X-FUNAMBOL-ALLDAY:TRUE
DTSTAMP:20260421T210400Z
CREATED:20131031T221700Z
LAST-MODIFIED:20140103T220100Z
UID:20140130T000000-17822@law.utexas.edu
SUMMARY:Public Service Career Fair (Day I)
DESCRIPTION:<p>Hosted annually by the UT Law Career Services Office, <a href="https://www.utexas.edu/law/career/fairs/pscd.html">Public Service Career Fair (PSCF)</a> is the largest public service job fair for law students in Texas. During both days of PSCF, which will be held January 30-31, 2014, public interest and government employers will conduct on-campus interviews for paid and unpaid summer and permanent positions in the Career Services Interview Suite. On Thursday, January 30, certain employers will also host informational tables in the Law School's Susman Godfrey Atrium from 10:30 a.m. to 1:30 p.m.</p>\n\nIf you need an accommodation to participate in this event, please contact the event sponsor or the Texas Law Special Events Office at specialevents@law.utexas.edu no later than seven business days prior to the event.
X-ALT-DESC;FMTTYPE=text/html:<p>Hosted annually by the UT Law Career Services Office, <a href="https://www.utexas.edu/law/career/fairs/pscd.html">Public Service Career Fair (PSCF)</a> is the largest public service job fair for law students in Texas. During both days of PSCF, which will be held January 30-31, 2014, public interest and government employers will conduct on-campus interviews for paid and unpaid summer and permanent positions in the Career Services Interview Suite. On Thursday, January 30, certain employers will also host informational tables in the Law School's Susman Godfrey Atrium from 10:30 a.m. to 1:30 p.m.</p><p>If you need an accommodation to participate in this event, please contact the event
                                          event sponsor or the Texas Law Special Events Office at <a href="mailto:specialevents@law.utexas.edu">specialevents@law.utexas.edu</a> no later than seven business days prior to the event.</p>
CATEGORIES:Interview Program
LOCATION:Career Services Interview Suite (TNH 3.122)
URL:http://law.utexas.edu/calendar/2014/01/30/17822/
CLASS:PUBLIC
STATUS:CONFIRMED
COMMENT:Please contact James Cardenas, Programs Coordinator, at 512-232-7110 or <a href="mailto:jcardenas@law.utexas.edu">jcardenas@law.utexas.edu</a>.
END:VEVENT
END:VCALENDAR