BEGIN:VCALENDAR
VERSION:2.0
PRODID:-//UNIVERSITY OF TEXAS SCHOOL OF LAW//NONSGML Events Calendar v1.0//EN
X-WR-TIMEZONE:America/Chicago
BEGIN:VTIMEZONE
TZID:US/Central
X-LIC-LOCATION:America/Chicago
BEGIN:DAYLIGHT
TZOFFSETFROM:-0600
TZOFFSETTO:-0500
TZNAME:CDT
DTSTART:19700308T020000
RRULE:FREQ=YEARLY;BYMONTH=3;BYDAY=2SU
END:DAYLIGHT
BEGIN:STANDARD
TZOFFSETFROM:-0500
TZOFFSETTO:-0600
TZNAME:CST
DTSTART:19701101T020000
RRULE:FREQ=YEARLY;BYMONTH=11;BYDAY=1SU
END:STANDARD
END:VTIMEZONE
BEGIN:VEVENT
DTSTART;TZID=US/Central:20140130T123000
DTEND;VALUE=DATE-TIME;TZID=US/Central:20140130T133000

DTSTAMP:20260421T210500Z
CREATED:20140124T180400Z
LAST-MODIFIED:20140124T180400Z
UID:20140130T123000-18456@law.utexas.edu
SUMMARY:Lunch: The Obamacare Rollout
DESCRIPTION:<p>Dr. Merrill Matthews returns to UT to discuss the problems with the Obamacare rollout process. Dr. Matthews spoke last semester on the projected issues with the new health care law, and he will now speak about how the Obamacare rollout has faced numerous challenges since starting this fall. Matthews is a health care scholar for the Institute for Policy Innovation in Dallas and a regular contributor to Forbes.com</p>
  <p>Texas Federalist Society
  Dr. Merrill Mathews: The Obamacare Rollout
  Thursday, Jan. 30th | 12:30pm - 1:30pm
  3.142 | Free lunch!
  </p>\n\nIf you need an accommodation to participate in this event, please contact the event sponsor or the Texas Law Special Events Office at specialevents@law.utexas.edu no later than seven business days prior to the event.
X-ALT-DESC;FMTTYPE=text/html:<p>Dr. Merrill Matthews returns to UT to discuss the problems with the Obamacare rollout process. Dr. Matthews spoke last semester on the projected issues with the new health care law, and he will now speak about how the Obamacare rollout has faced numerous challenges since starting this fall. Matthews is a health care scholar for the Institute for Policy Innovation in Dallas and a regular contributor to Forbes.com</p>
  <p>Texas Federalist Society
  Dr. Merrill Mathews: The Obamacare Rollout
  Thursday, Jan. 30th | 12:30pm - 1:30pm
  3.142 | Free lunch!
  </p><p>If you need an accommodation to participate in this event, please contact the event
                                          event sponsor or the Texas Law Special Events Office at <a href="mailto:specialevents@law.utexas.edu">specialevents@law.utexas.edu</a> no later than seven business days prior to the event.</p>
CATEGORIES:Lunch
LOCATION:TNH 3.142 - Walker Classroom
URL:http://law.utexas.edu/calendar/2014/01/30/18456/
CLASS:PUBLIC
STATUS:CONFIRMED

END:VEVENT
END:VCALENDAR