BEGIN:VCALENDAR
VERSION:2.0
PRODID:-//UNIVERSITY OF TEXAS SCHOOL OF LAW//NONSGML Events Calendar v1.0//EN
X-WR-TIMEZONE:America/Chicago
BEGIN:VTIMEZONE
TZID:US/Central
X-LIC-LOCATION:America/Chicago
BEGIN:DAYLIGHT
TZOFFSETFROM:-0600
TZOFFSETTO:-0500
TZNAME:CDT
DTSTART:19700308T020000
RRULE:FREQ=YEARLY;BYMONTH=3;BYDAY=2SU
END:DAYLIGHT
BEGIN:STANDARD
TZOFFSETFROM:-0500
TZOFFSETTO:-0600
TZNAME:CST
DTSTART:19701101T020000
RRULE:FREQ=YEARLY;BYMONTH=11;BYDAY=1SU
END:STANDARD
END:VTIMEZONE
BEGIN:VEVENT
DTSTART;TZID=US/Central:20140131
DTEND;TZID=US/Central:20140201
X-MICROSOFT-CDO-ALLDAYEVENT:TRUE
X-FUNAMBOL-ALLDAY:TRUE
DTSTAMP:20260421T210400Z
CREATED:20130503T140400Z
LAST-MODIFIED:20140130T180900Z
UID:20140131T090000-16683@law.utexas.edu
SUMMARY:Is Democracy Desirable?
DESCRIPTION:<p>conference hosted by Sanford Levinson and co-hosted by Jeffrey Abramson </p>
  <p></p>
  <p>“Is Democracy Desirable?” is a one-day symposium exploring three recent books about democracy through discussion and panel presentations. Featured speakers and panelists in attendance from UT Law, Harvard, Yale and Stanford include Dennis Thompson, Heather Gerken, Joseph Fishkin, Paul Woodruff, Sanford Levinson, Jim Fishkin, Jeffrey Abramson and others.</p>\n\nIf you need an accommodation to participate in this event, please contact the event sponsor or the Texas Law Special Events Office at specialevents@law.utexas.edu no later than seven business days prior to the event.
X-ALT-DESC;FMTTYPE=text/html:<p>conference hosted by Sanford Levinson and co-hosted by Jeffrey Abramson </p>
  <p></p>
  <p>“Is Democracy Desirable?” is a one-day symposium exploring three recent books about democracy through discussion and panel presentations. Featured speakers and panelists in attendance from UT Law, Harvard, Yale and Stanford include Dennis Thompson, Heather Gerken, Joseph Fishkin, Paul Woodruff, Sanford Levinson, Jim Fishkin, Jeffrey Abramson and others.</p><p>If you need an accommodation to participate in this event, please contact the event
                                          event sponsor or the Texas Law Special Events Office at <a href="mailto:specialevents@law.utexas.edu">specialevents@law.utexas.edu</a> no later than seven business days prior to the event.</p>

LOCATION:CCJ 2.306 - Eidman Courtroom
URL:http://law.utexas.edu/calendar/2014/01/31/16683/
CLASS:PUBLIC
STATUS:CONFIRMED

END:VEVENT
END:VCALENDAR