BEGIN:VCALENDAR
VERSION:2.0
PRODID:-//UNIVERSITY OF TEXAS SCHOOL OF LAW//NONSGML Events Calendar v1.0//EN
X-WR-TIMEZONE:America/Chicago
BEGIN:VTIMEZONE
TZID:US/Central
X-LIC-LOCATION:America/Chicago
BEGIN:DAYLIGHT
TZOFFSETFROM:-0600
TZOFFSETTO:-0500
TZNAME:CDT
DTSTART:19700308T020000
RRULE:FREQ=YEARLY;BYMONTH=3;BYDAY=2SU
END:DAYLIGHT
BEGIN:STANDARD
TZOFFSETFROM:-0500
TZOFFSETTO:-0600
TZNAME:CST
DTSTART:19701101T020000
RRULE:FREQ=YEARLY;BYMONTH=11;BYDAY=1SU
END:STANDARD
END:VTIMEZONE
BEGIN:VEVENT
DTSTART;TZID=US/Central:20140131T120000
DTEND;VALUE=DATE-TIME;TZID=US/Central:20140131T131500

DTSTAMP:20260421T210400Z
CREATED:20131029T222800Z
LAST-MODIFIED:20140127T165000Z
UID:20140131T120000-17812@law.utexas.edu
SUMMARY:Heather Jarvis
DESCRIPTION:<p>On Friday, January 31, <a href="askheatherjarvis.com">Heather Jarvis</a> will be speaking about "Public Service Loan Forgiveness in Five Easy Steps" during lunch from noon-1:15 p.m. as part of the Public Service Career Fair. Many government and nonprofit professionals stand to gain tens of thousands of dollars of student debt relief from the Public Service Loan Forgiveness program established by the College Cost Reduction and Access Act. But the program requirements can be confusing. Heather knows how to break it down step-by-step so it makes sense once and for all. She'll also be discussing the Pay As You Earn Repayment Plan.</p>
  <p><a title="RSVP for Heather Jarvis on Eventbrite" href="http://www.eventbrite.com/e/heather-jarvis-public-service-loan-forgiveness-in-five-easy-steps-tickets-9444381399">RSVP on Eventbrite</a>.</p>
  <p>A former capital defense attorney with law school debt, Heather Jarvis now dedicates her expertise to helping student loan borrowers make better decisions so that higher education can be a reality for all - not just those who can afford it. Specializing in training for high-debt borrowers and the people who love them, Heather has provided guidance and information to thousands of students and alumni.</p>\n\nIf you need an accommodation to participate in this event, please contact the event sponsor or the Texas Law Special Events Office at specialevents@law.utexas.edu no later than seven business days prior to the event.
X-ALT-DESC;FMTTYPE=text/html:<p>On Friday, January 31, <a href="askheatherjarvis.com">Heather Jarvis</a> will be speaking about "Public Service Loan Forgiveness in Five Easy Steps" during lunch from noon-1:15 p.m. as part of the Public Service Career Fair. Many government and nonprofit professionals stand to gain tens of thousands of dollars of student debt relief from the Public Service Loan Forgiveness program established by the College Cost Reduction and Access Act. But the program requirements can be confusing. Heather knows how to break it down step-by-step so it makes sense once and for all. She'll also be discussing the Pay As You Earn Repayment Plan.</p>
  <p><a title="RSVP for Heather Jarvis on Eventbrite" href="http://www.eventbrite.com/e/heather-jarvis-public-service-loan-forgiveness-in-five-easy-steps-tickets-9444381399">RSVP on Eventbrite</a>.</p>
  <p>A former capital defense attorney with law school debt, Heather Jarvis now dedicates her expertise to helping student loan borrowers make better decisions so that higher education can be a reality for all - not just those who can afford it. Specializing in training for high-debt borrowers and the people who love them, Heather has provided guidance and information to thousands of students and alumni.</p><p>If you need an accommodation to participate in this event, please contact the event
                                          event sponsor or the Texas Law Special Events Office at <a href="mailto:specialevents@law.utexas.edu">specialevents@law.utexas.edu</a> no later than seven business days prior to the event.</p>
CATEGORIES:Workshop / Training Program
LOCATION:TNH 2.114 - Francis Auditorium
URL:http://law.utexas.edu/calendar/2014/01/31/17812/
CLASS:PUBLIC
STATUS:CONFIRMED
COMMENT:Please contact Nicole Simmons, Director of Public Service Programs, at 512-232-1160 or <a href="mailto:nsimmons@law.utexas.edu">nsimmons@law.utexas.edu</a>.
END:VEVENT
END:VCALENDAR