BEGIN:VCALENDAR
VERSION:2.0
PRODID:-//UNIVERSITY OF TEXAS SCHOOL OF LAW//NONSGML Events Calendar v1.0//EN
X-WR-TIMEZONE:America/Chicago
BEGIN:VTIMEZONE
TZID:US/Central
X-LIC-LOCATION:America/Chicago
BEGIN:DAYLIGHT
TZOFFSETFROM:-0600
TZOFFSETTO:-0500
TZNAME:CDT
DTSTART:19700308T020000
RRULE:FREQ=YEARLY;BYMONTH=3;BYDAY=2SU
END:DAYLIGHT
BEGIN:STANDARD
TZOFFSETFROM:-0500
TZOFFSETTO:-0600
TZNAME:CST
DTSTART:19701101T020000
RRULE:FREQ=YEARLY;BYMONTH=11;BYDAY=1SU
END:STANDARD
END:VTIMEZONE
BEGIN:VEVENT
DTSTART;TZID=US/Central:20140131T180000
DTEND;VALUE=DATE-TIME;TZID=US/Central:20140131T193000

DTSTAMP:20260421T210400Z
CREATED:20140115T174000Z
LAST-MODIFIED:20140124T172900Z
UID:20140131T180000-18340@law.utexas.edu
SUMMARY:PILA Student Org Happy Hour
DESCRIPTION:<p>Public Interest Law Association (PILA) will be hosting a happy hour for board members of student organizations interested in public interest law and pro bono opportunities. Board members from interested student organizations are welcome to attend, and we particularly hope to see members of ACS, ALG, ASAP, CHLSA, ELS, HRLS, OUTLaw, Street Law, Reproductive Justice, TLF, TMLS, and Youth Court. Join us for a drink and an opportunity to get to know your follow public interest oriented student organization leaders! </p>
  <p>Location: Haymaker, 2310 Manor Rd, Austin, TX 78722
  Time: 6:00pm until...</p>
  <p>For more information, please contact Cat McCulloch at katiehmcc@gmail.com.</p>\n\nIf you need an accommodation to participate in this event, please contact the event sponsor or the Texas Law Special Events Office at specialevents@law.utexas.edu no later than seven business days prior to the event.
X-ALT-DESC;FMTTYPE=text/html:<p>Public Interest Law Association (PILA) will be hosting a happy hour for board members of student organizations interested in public interest law and pro bono opportunities. Board members from interested student organizations are welcome to attend, and we particularly hope to see members of ACS, ALG, ASAP, CHLSA, ELS, HRLS, OUTLaw, Street Law, Reproductive Justice, TLF, TMLS, and Youth Court. Join us for a drink and an opportunity to get to know your follow public interest oriented student organization leaders! </p>
  <p>Location: Haymaker, 2310 Manor Rd, Austin, TX 78722
  Time: 6:00pm until...</p>
  <p>For more information, please contact Cat McCulloch at katiehmcc@gmail.com.</p><p>If you need an accommodation to participate in this event, please contact the event
                                          event sponsor or the Texas Law Special Events Office at <a href="mailto:specialevents@law.utexas.edu">specialevents@law.utexas.edu</a> no later than seven business days prior to the event.</p>
CATEGORIES:Other

URL:http://law.utexas.edu/calendar/2014/01/31/18340/
CLASS:PUBLIC
STATUS:CONFIRMED

END:VEVENT
END:VCALENDAR