BEGIN:VCALENDAR
VERSION:2.0
PRODID:-//UNIVERSITY OF TEXAS SCHOOL OF LAW//NONSGML Events Calendar v1.0//EN
X-WR-TIMEZONE:America/Chicago
BEGIN:VTIMEZONE
TZID:US/Central
X-LIC-LOCATION:America/Chicago
BEGIN:DAYLIGHT
TZOFFSETFROM:-0600
TZOFFSETTO:-0500
TZNAME:CDT
DTSTART:19700308T020000
RRULE:FREQ=YEARLY;BYMONTH=3;BYDAY=2SU
END:DAYLIGHT
BEGIN:STANDARD
TZOFFSETFROM:-0500
TZOFFSETTO:-0600
TZNAME:CST
DTSTART:19701101T020000
RRULE:FREQ=YEARLY;BYMONTH=11;BYDAY=1SU
END:STANDARD
END:VTIMEZONE
BEGIN:VEVENT
DTSTART;TZID=US/Central:20140131T113000
DTEND;VALUE=DATE-TIME;TZID=US/Central:20140131T130000

DTSTAMP:20260421T211300Z
CREATED:20140130T201500Z
LAST-MODIFIED:20140130T201500Z
UID:20140131T113000-18520@law.utexas.edu
SUMMARY:Judicial Clerkships:  Personal Statement
DESCRIPTION:<p>Students applying for judicial clerkships are invited to this hands-on workshop to learn how to write a strong personal statement. Jason Crandall of the Law School Writing Center will discuss how to draft a strong personal statement, and then you'll actually start drafting your own statement. Lunch will be served. </p>\n\nIf you need an accommodation to participate in this event, please contact the event sponsor or the Texas Law Special Events Office at specialevents@law.utexas.edu no later than seven business days prior to the event.
X-ALT-DESC;FMTTYPE=text/html:<p>Students applying for judicial clerkships are invited to this hands-on workshop to learn how to write a strong personal statement. Jason Crandall of the Law School Writing Center will discuss how to draft a strong personal statement, and then you'll actually start drafting your own statement. Lunch will be served. </p><p>If you need an accommodation to participate in this event, please contact the event
                                          event sponsor or the Texas Law Special Events Office at <a href="mailto:specialevents@law.utexas.edu">specialevents@law.utexas.edu</a> no later than seven business days prior to the event.</p>
CATEGORIES:Workshop / Training Program
LOCATION:TNH 3.126 - Ratliff Classroom
URL:http://law.utexas.edu/calendar/2014/01/31/18520/
CLASS:PUBLIC
STATUS:CONFIRMED
COMMENT:Please contact Remi Ratliff, Director of Judicial Programs, at 512-232-1163 or rratliff@law.utexas.edu.
END:VEVENT
END:VCALENDAR