BEGIN:VCALENDAR
VERSION:2.0
PRODID:-//UNIVERSITY OF TEXAS SCHOOL OF LAW//NONSGML Events Calendar v1.0//EN
X-WR-TIMEZONE:America/Chicago
BEGIN:VTIMEZONE
TZID:US/Central
X-LIC-LOCATION:America/Chicago
BEGIN:DAYLIGHT
TZOFFSETFROM:-0600
TZOFFSETTO:-0500
TZNAME:CDT
DTSTART:19700308T020000
RRULE:FREQ=YEARLY;BYMONTH=3;BYDAY=2SU
END:DAYLIGHT
BEGIN:STANDARD
TZOFFSETFROM:-0500
TZOFFSETTO:-0600
TZNAME:CST
DTSTART:19701101T020000
RRULE:FREQ=YEARLY;BYMONTH=11;BYDAY=1SU
END:STANDARD
END:VTIMEZONE
BEGIN:VEVENT
DTSTART;TZID=US/Central:20140217T154500
DTEND;VALUE=DATE-TIME;TZID=US/Central:20140217T174500

DTSTAMP:20260421T211200Z
CREATED:20131007T164300Z
LAST-MODIFIED:20140207T183400Z
UID:20140217T154500-17578@law.utexas.edu
SUMMARY:Race, Citizenship and Immigration
DESCRIPTION:<p>Please join us for the next event in the Rapoport Center’s 2014 Colloquium on Comparing European and North American Approaches to Human Rights, organized in collaboration with the Center for European Studies and funded in part by a grant from the European Union. This event is co-sponsored by Ethnic and Third World Literatures and will focus on “Approaches to Race, Citizenship and Immigration.” Light refreshments will be served.</p>\n\nIf you need an accommodation to participate in this event, please contact the event sponsor or the Texas Law Special Events Office at specialevents@law.utexas.edu no later than seven business days prior to the event. Speakers: Liz Fekete, E, Institute of Race Relations, Leti Volpp, R, University of California, Berkeley, School of Law
X-ALT-DESC;FMTTYPE=text/html:<p>Please join us for the next event in the Rapoport Center’s 2014 Colloquium on Comparing European and North American Approaches to Human Rights, organized in collaboration with the Center for European Studies and funded in part by a grant from the European Union. This event is co-sponsored by Ethnic and Third World Literatures and will focus on “Approaches to Race, Citizenship and Immigration.” Light refreshments will be served.</p><p>If you need an accommodation to participate in this event, please contact the event
                                          event sponsor or the Texas Law Special Events Office at <a href="mailto:specialevents@law.utexas.edu">specialevents@law.utexas.edu</a> no later than seven business days prior to the event.</p> Speakers: Liz Fekete, E, Institute of Race Relations, Leti Volpp, R, University of California, Berkeley, School of Law

LOCATION:TNH 2.111 - Sheffield-Massey Room
URL:http://law.utexas.edu/calendar/2014/02/17/17578/
CLASS:PUBLIC
STATUS:CONFIRMED

END:VEVENT
END:VCALENDAR