BEGIN:VCALENDAR
VERSION:2.0
PRODID:-//UNIVERSITY OF TEXAS SCHOOL OF LAW//NONSGML Events Calendar v1.0//EN
X-WR-TIMEZONE:America/Chicago
BEGIN:VTIMEZONE
TZID:US/Central
X-LIC-LOCATION:America/Chicago
BEGIN:DAYLIGHT
TZOFFSETFROM:-0600
TZOFFSETTO:-0500
TZNAME:CDT
DTSTART:19700308T020000
RRULE:FREQ=YEARLY;BYMONTH=3;BYDAY=2SU
END:DAYLIGHT
BEGIN:STANDARD
TZOFFSETFROM:-0500
TZOFFSETTO:-0600
TZNAME:CST
DTSTART:19701101T020000
RRULE:FREQ=YEARLY;BYMONTH=11;BYDAY=1SU
END:STANDARD
END:VTIMEZONE
BEGIN:VEVENT
DTSTART;TZID=US/Central:20140218T114500
DTEND;VALUE=DATE-TIME;TZID=US/Central:20140218T124500

DTSTAMP:20260421T194700Z
CREATED:20140129T152300Z
LAST-MODIFIED:20140211T223500Z
UID:20140218T114500-18468@law.utexas.edu
SUMMARY:Sheffield Society lunch with Judge Prado
DESCRIPTION:<p>Sheffield Society Community Fellow Judge Edward Prado and his clerks will join the Sheffield Society for lunch from 11:45 until 12:45 in room 2.124.</p>\n\nIf you need an accommodation to participate in this event, please contact the event sponsor or the Texas Law Special Events Office at specialevents@law.utexas.edu no later than seven business days prior to the event.
X-ALT-DESC;FMTTYPE=text/html:<p>Sheffield Society Community Fellow Judge Edward Prado and his clerks will join the Sheffield Society for lunch from 11:45 until 12:45 in room 2.124.</p><p>If you need an accommodation to participate in this event, please contact the event
                                          event sponsor or the Texas Law Special Events Office at <a href="mailto:specialevents@law.utexas.edu">specialevents@law.utexas.edu</a> no later than seven business days prior to the event.</p>
CATEGORIES:Lunch
LOCATION:TNH 2.124 - Reaud Classroom
URL:http://law.utexas.edu/calendar/2014/02/18/18468/
CLASS:PUBLIC
STATUS:CONFIRMED

END:VEVENT
END:VCALENDAR