BEGIN:VCALENDAR
VERSION:2.0
PRODID:-//UNIVERSITY OF TEXAS SCHOOL OF LAW//NONSGML Events Calendar v1.0//EN
X-WR-TIMEZONE:America/Chicago
BEGIN:VTIMEZONE
TZID:US/Central
X-LIC-LOCATION:America/Chicago
BEGIN:DAYLIGHT
TZOFFSETFROM:-0600
TZOFFSETTO:-0500
TZNAME:CDT
DTSTART:19700308T020000
RRULE:FREQ=YEARLY;BYMONTH=3;BYDAY=2SU
END:DAYLIGHT
BEGIN:STANDARD
TZOFFSETFROM:-0500
TZOFFSETTO:-0600
TZNAME:CST
DTSTART:19701101T020000
RRULE:FREQ=YEARLY;BYMONTH=11;BYDAY=1SU
END:STANDARD
END:VTIMEZONE
BEGIN:VEVENT
DTSTART;TZID=US/Central:20140218T120000
DTEND;VALUE=DATE-TIME;TZID=US/Central:20140218T130000

DTSTAMP:20260421T194700Z
CREATED:20140131T221000Z
LAST-MODIFIED:20140212T153200Z
UID:20140218T120000-18527@law.utexas.edu
SUMMARY:Judge Edith Jones
DESCRIPTION:<p>Join the Texas Federalist Society in welcoming Judge Edith Jones back to campus. A UT Law Alum, Judge Jones currently serves on the 5th Circuit and was previously Chief Judge until September 2012. Judge Jones will discuss the interplay between the rule of law and wealth creation.</p>
  <p>Free Torchy's Tacos will be provided.
  </p>\n\nIf you need an accommodation to participate in this event, please contact the event sponsor or the Texas Law Special Events Office at specialevents@law.utexas.edu no later than seven business days prior to the event.
X-ALT-DESC;FMTTYPE=text/html:<p>Join the Texas Federalist Society in welcoming Judge Edith Jones back to campus. A UT Law Alum, Judge Jones currently serves on the 5th Circuit and was previously Chief Judge until September 2012. Judge Jones will discuss the interplay between the rule of law and wealth creation.</p>
  <p>Free Torchy's Tacos will be provided.
  </p><p>If you need an accommodation to participate in this event, please contact the event
                                          event sponsor or the Texas Law Special Events Office at <a href="mailto:specialevents@law.utexas.edu">specialevents@law.utexas.edu</a> no later than seven business days prior to the event.</p>
CATEGORIES:Lunch
LOCATION:TNH 2.138 - Blanton Classroom
URL:http://law.utexas.edu/calendar/2014/02/18/18527/
CLASS:PUBLIC
STATUS:CONFIRMED

END:VEVENT
END:VCALENDAR