BEGIN:VCALENDAR
VERSION:2.0
PRODID:-//UNIVERSITY OF TEXAS SCHOOL OF LAW//NONSGML Events Calendar v1.0//EN
X-WR-TIMEZONE:America/Chicago
BEGIN:VTIMEZONE
TZID:US/Central
X-LIC-LOCATION:America/Chicago
BEGIN:DAYLIGHT
TZOFFSETFROM:-0600
TZOFFSETTO:-0500
TZNAME:CDT
DTSTART:19700308T020000
RRULE:FREQ=YEARLY;BYMONTH=3;BYDAY=2SU
END:DAYLIGHT
BEGIN:STANDARD
TZOFFSETFROM:-0500
TZOFFSETTO:-0600
TZNAME:CST
DTSTART:19701101T020000
RRULE:FREQ=YEARLY;BYMONTH=11;BYDAY=1SU
END:STANDARD
END:VTIMEZONE
BEGIN:VEVENT
DTSTART;TZID=US/Central:20140219T153000
DTEND;VALUE=DATE-TIME;TZID=US/Central:20140219T170000

DTSTAMP:20260421T194700Z
CREATED:20140217T145600Z
LAST-MODIFIED:20140218T171600Z
UID:20140219T153000-18609@law.utexas.edu
SUMMARY:Human Rights &amp; LGBTs in Russia
DESCRIPTION:<p>Given the international attention drawn to Russia during the Olympics, the time may be ripe to apply international pressure to put an end to the country's human rights abuses, especially towards the LGBT community.  A panel of three speakers will discuss the ongoing dangers and challenges faced by the LGBT community in Russia, including the impacts of the recent anti-gay "propaganda" law.  The panel will also discuss the potential avenues to alleviate these abuses, considering both legal and non-legal means.</p>
  <p>Dr. Thomas Garza is an expert on Russian culture, history, and youth movements at the UT Center for Russian, East European, and Eurasian Studies.</p>
  <p>Dr. Mark Hopkins, also of the Center for Russian, East European, and Eurasian Studies, recently pursued doctoral research in Russia and experienced first-hand the intolerance suffered by the LGBT community there.</p>
  <p>Denise Gilman is an expert on international human rights law.</p>\n\nIf you need an accommodation to participate in this event, please contact the event sponsor or the Texas Law Special Events Office at specialevents@law.utexas.edu no later than seven business days prior to the event.
X-ALT-DESC;FMTTYPE=text/html:<p>Given the international attention drawn to Russia during the Olympics, the time may be ripe to apply international pressure to put an end to the country's human rights abuses, especially towards the LGBT community.  A panel of three speakers will discuss the ongoing dangers and challenges faced by the LGBT community in Russia, including the impacts of the recent anti-gay "propaganda" law.  The panel will also discuss the potential avenues to alleviate these abuses, considering both legal and non-legal means.</p>
  <p>Dr. Thomas Garza is an expert on Russian culture, history, and youth movements at the UT Center for Russian, East European, and Eurasian Studies.</p>
  <p>Dr. Mark Hopkins, also of the Center for Russian, East European, and Eurasian Studies, recently pursued doctoral research in Russia and experienced first-hand the intolerance suffered by the LGBT community there.</p>
  <p>Denise Gilman is an expert on international human rights law.</p><p>If you need an accommodation to participate in this event, please contact the event
                                          event sponsor or the Texas Law Special Events Office at <a href="mailto:specialevents@law.utexas.edu">specialevents@law.utexas.edu</a> no later than seven business days prior to the event.</p>
CATEGORIES:Panel Discussion / Speaker Series
LOCATION:TNH 2.137 - Gayle Classroom
URL:http://law.utexas.edu/calendar/2014/02/19/18609/
CLASS:PUBLIC
STATUS:CONFIRMED

END:VEVENT
END:VCALENDAR