BEGIN:VCALENDAR
VERSION:2.0
PRODID:-//UNIVERSITY OF TEXAS SCHOOL OF LAW//NONSGML Events Calendar v1.0//EN
X-WR-TIMEZONE:America/Chicago
BEGIN:VTIMEZONE
TZID:US/Central
X-LIC-LOCATION:America/Chicago
BEGIN:DAYLIGHT
TZOFFSETFROM:-0600
TZOFFSETTO:-0500
TZNAME:CDT
DTSTART:19700308T020000
RRULE:FREQ=YEARLY;BYMONTH=3;BYDAY=2SU
END:DAYLIGHT
BEGIN:STANDARD
TZOFFSETFROM:-0500
TZOFFSETTO:-0600
TZNAME:CST
DTSTART:19701101T020000
RRULE:FREQ=YEARLY;BYMONTH=11;BYDAY=1SU
END:STANDARD
END:VTIMEZONE
BEGIN:VEVENT
DTSTART;TZID=US/Central:20140220T114500
DTEND;VALUE=DATE-TIME;TZID=US/Central:20140220T130000

DTSTAMP:20260421T211300Z
CREATED:20131108T203100Z
LAST-MODIFIED:20140219T172400Z
UID:20140220T114500-17908@law.utexas.edu
SUMMARY:Professional Development Institute
DESCRIPTION:<p>The UT Law Professional Development Institute: Prepared For Practice will be taught by industry experts and practicing attorneys, covering facets of new attorney professionalism most sought after by legal employers. It is promoted widely to employers, many of whom contributed to the content of this program. This program is open to all UT Law J.D. students. Lunch will be served. </p>
  <p>Law Firm Track will be held on Thursdays, January 23-February 27, 2014 from 11:50 a.m.-12:50 p.m. in the Francis Auditorium.</p>
  <p>Public Service Track will be on Saturday, February 1, from 9:00 a.m.-3:45 p.m. in the Eidman Courtroom / Jamail Pavilion. </p>\n\nIf you need an accommodation to participate in this event, please contact the event sponsor or the Texas Law Special Events Office at specialevents@law.utexas.edu no later than seven business days prior to the event.
X-ALT-DESC;FMTTYPE=text/html:<p>The UT Law Professional Development Institute: Prepared For Practice will be taught by industry experts and practicing attorneys, covering facets of new attorney professionalism most sought after by legal employers. It is promoted widely to employers, many of whom contributed to the content of this program. This program is open to all UT Law J.D. students. Lunch will be served. </p>
  <p>Law Firm Track will be held on Thursdays, January 23-February 27, 2014 from 11:50 a.m.-12:50 p.m. in the Francis Auditorium.</p>
  <p>Public Service Track will be on Saturday, February 1, from 9:00 a.m.-3:45 p.m. in the Eidman Courtroom / Jamail Pavilion. </p><p>If you need an accommodation to participate in this event, please contact the event
                                          event sponsor or the Texas Law Special Events Office at <a href="mailto:specialevents@law.utexas.edu">specialevents@law.utexas.edu</a> no later than seven business days prior to the event.</p>
CATEGORIES:Workshop / Training Program
LOCATION:TNH 2.114 - Francis Auditorium
URL:http://law.utexas.edu/calendar/2014/02/20/17908/
CLASS:PUBLIC
STATUS:CONFIRMED
COMMENT:Please contact Deb Freeman, Assistant Director for Communications, at 512-232-2162 or <a href="mailto:dfreeman@law.utexas.edu">dfreeman@law.utexas.edu</a>.
END:VEVENT
END:VCALENDAR