BEGIN:VCALENDAR
VERSION:2.0
PRODID:-//UNIVERSITY OF TEXAS SCHOOL OF LAW//NONSGML Events Calendar v1.0//EN
X-WR-TIMEZONE:America/Chicago
BEGIN:VTIMEZONE
TZID:US/Central
X-LIC-LOCATION:America/Chicago
BEGIN:DAYLIGHT
TZOFFSETFROM:-0600
TZOFFSETTO:-0500
TZNAME:CDT
DTSTART:19700308T020000
RRULE:FREQ=YEARLY;BYMONTH=3;BYDAY=2SU
END:DAYLIGHT
BEGIN:STANDARD
TZOFFSETFROM:-0500
TZOFFSETTO:-0600
TZNAME:CST
DTSTART:19701101T020000
RRULE:FREQ=YEARLY;BYMONTH=11;BYDAY=1SU
END:STANDARD
END:VTIMEZONE
BEGIN:VEVENT
DTSTART;TZID=US/Central:20140221
DTEND;TZID=US/Central:20140222
X-MICROSOFT-CDO-ALLDAYEVENT:TRUE
X-FUNAMBOL-ALLDAY:TRUE
DTSTAMP:20260421T210100Z
CREATED:20130514T162700Z
LAST-MODIFIED:20140114T174400Z
UID:20140221T080000-16699@law.utexas.edu
SUMMARY:Ms. JD Conference
DESCRIPTION:<p>Ms. JD's annual conference represents the marquee event of the year for women in law. In addition to getting the opportunity to interact with and learn from one another, the conference gives students and young lawyers opportunities to meet top lawyers, hear from incredible and inspiring speakers, and plan for a year ahead working together! In sum, the Ms. JD Conference will present students and attorneys with a meaningful and valuable opportunity to connect to the nation's most talented people in the law.</p>\n\nIf you need an accommodation to participate in this event, please contact the event sponsor or the Texas Law Special Events Office at specialevents@law.utexas.edu no later than seven business days prior to the event.
X-ALT-DESC;FMTTYPE=text/html:<p>Ms. JD's annual conference represents the marquee event of the year for women in law. In addition to getting the opportunity to interact with and learn from one another, the conference gives students and young lawyers opportunities to meet top lawyers, hear from incredible and inspiring speakers, and plan for a year ahead working together! In sum, the Ms. JD Conference will present students and attorneys with a meaningful and valuable opportunity to connect to the nation's most talented people in the law.</p><p>If you need an accommodation to participate in this event, please contact the event
                                          event sponsor or the Texas Law Special Events Office at <a href="mailto:specialevents@law.utexas.edu">specialevents@law.utexas.edu</a> no later than seven business days prior to the event.</p>
CATEGORIES:Workshop / Training Program
LOCATION:TNH 2.114 - Francis Auditorium
URL:http://law.utexas.edu/calendar/2014/02/21/16699/
CLASS:PUBLIC
STATUS:CONFIRMED
COMMENT:Contact Melissa at mgalusky@law.utexas.edu or (512) 232-1911
END:VEVENT
END:VCALENDAR