BEGIN:VCALENDAR
VERSION:2.0
PRODID:-//UNIVERSITY OF TEXAS SCHOOL OF LAW//NONSGML Events Calendar v1.0//EN
X-WR-TIMEZONE:America/Chicago
BEGIN:VTIMEZONE
TZID:US/Central
X-LIC-LOCATION:America/Chicago
BEGIN:DAYLIGHT
TZOFFSETFROM:-0600
TZOFFSETTO:-0500
TZNAME:CDT
DTSTART:19700308T020000
RRULE:FREQ=YEARLY;BYMONTH=3;BYDAY=2SU
END:DAYLIGHT
BEGIN:STANDARD
TZOFFSETFROM:-0500
TZOFFSETTO:-0600
TZNAME:CST
DTSTART:19701101T020000
RRULE:FREQ=YEARLY;BYMONTH=11;BYDAY=1SU
END:STANDARD
END:VTIMEZONE
BEGIN:VEVENT
DTSTART;TZID=US/Central:20140221T100000
DTEND;VALUE=DATE-TIME;TZID=US/Central:20140221T150000

DTSTAMP:20260421T194500Z
CREATED:20140107T235300Z
LAST-MODIFIED:20140217T175200Z
UID:20140221T100000-18261@law.utexas.edu
SUMMARY:Water Conservation and Reuse Projects
DESCRIPTION:<p>There are many challenges and opportunities associated with funding water conservation projects using revenue bonds financed by the newly-created State Water Implementation Fund for Texas(SWIFT). H.B. 4, which created SWIFT, includes a requirement that 20% of the $2 billion fund be spent on “conservation and reuse” projects in the state water plan. This workshop will feature experts on water law and policy who can explain the questions and challenges associated with implementing the 20% requirement. Speakers will also focus on the most important opportunities presented by the new funding.  </p>
  <p>Lunch will be provided. </p>
  <p>Please RSVP to Gena Dawson at gdawson@law.utexas.edu or 512-475-9328.
   </p>\n\nIf you need an accommodation to participate in this event, please contact the event sponsor or the Texas Law Special Events Office at specialevents@law.utexas.edu no later than seven business days prior to the event.
X-ALT-DESC;FMTTYPE=text/html:<p>There are many challenges and opportunities associated with funding water conservation projects using revenue bonds financed by the newly-created State Water Implementation Fund for Texas(SWIFT). H.B. 4, which created SWIFT, includes a requirement that 20% of the $2 billion fund be spent on “conservation and reuse” projects in the state water plan. This workshop will feature experts on water law and policy who can explain the questions and challenges associated with implementing the 20% requirement. Speakers will also focus on the most important opportunities presented by the new funding.  </p>
  <p>Lunch will be provided. </p>
  <p>Please RSVP to Gena Dawson at gdawson@law.utexas.edu or 512-475-9328.
   </p><p>If you need an accommodation to participate in this event, please contact the event
                                          event sponsor or the Texas Law Special Events Office at <a href="mailto:specialevents@law.utexas.edu">specialevents@law.utexas.edu</a> no later than seven business days prior to the event.</p>
CATEGORIES:Workshop / Training Program
LOCATION:JON 5.206 - Susman Academic Center, Bryan and Michelle Goolsby Conference Suite (5.206 / 5.207)
URL:http://law.utexas.edu/calendar/2014/02/21/18261/
CLASS:PUBLIC
STATUS:CONFIRMED

END:VEVENT
END:VCALENDAR