BEGIN:VCALENDAR
VERSION:2.0
PRODID:-//UNIVERSITY OF TEXAS SCHOOL OF LAW//NONSGML Events Calendar v1.0//EN
X-WR-TIMEZONE:America/Chicago
BEGIN:VTIMEZONE
TZID:US/Central
X-LIC-LOCATION:America/Chicago
BEGIN:DAYLIGHT
TZOFFSETFROM:-0600
TZOFFSETTO:-0500
TZNAME:CDT
DTSTART:19700308T020000
RRULE:FREQ=YEARLY;BYMONTH=3;BYDAY=2SU
END:DAYLIGHT
BEGIN:STANDARD
TZOFFSETFROM:-0500
TZOFFSETTO:-0600
TZNAME:CST
DTSTART:19701101T020000
RRULE:FREQ=YEARLY;BYMONTH=11;BYDAY=1SU
END:STANDARD
END:VTIMEZONE
BEGIN:VEVENT
DTSTART;TZID=US/Central:20140221T120000
DTEND;VALUE=DATE-TIME;TZID=US/Central:20140221T133000

DTSTAMP:20260421T194600Z
CREATED:20140114T142200Z
LAST-MODIFIED:20140206T220300Z
UID:20140221T120000-18333@law.utexas.edu
SUMMARY:Social Justice in Underserved Areas
DESCRIPTION:<p>Please join a panel of practitioners and students as they discuss social change work in underserved areas, including the benefits and challenges of venturing beyond major urban centers for summer internships and to start a career. </p>
  <p>Panelists include James McDermott, who began his career as a public defender in Del Rio, Texas, and Emily Rickers, who started her career as a legal aid attorney in the Texas Rio Grande Valley.</p>
  <p>Lunch will be provided. Please RSVP by noon on Wednesday, February 19 to Rachel Sidopulos, RSidopulos@law.utexas.edu.</p>
  <p>Sponsored by the William Wayne Justice Center for Public Interest Law. 
  </p>\n\nIf you need an accommodation to participate in this event, please contact the event sponsor or the Texas Law Special Events Office at specialevents@law.utexas.edu no later than seven business days prior to the event.
X-ALT-DESC;FMTTYPE=text/html:<p>Please join a panel of practitioners and students as they discuss social change work in underserved areas, including the benefits and challenges of venturing beyond major urban centers for summer internships and to start a career. </p>
  <p>Panelists include James McDermott, who began his career as a public defender in Del Rio, Texas, and Emily Rickers, who started her career as a legal aid attorney in the Texas Rio Grande Valley.</p>
  <p>Lunch will be provided. Please RSVP by noon on Wednesday, February 19 to Rachel Sidopulos, RSidopulos@law.utexas.edu.</p>
  <p>Sponsored by the William Wayne Justice Center for Public Interest Law. 
  </p><p>If you need an accommodation to participate in this event, please contact the event
                                          event sponsor or the Texas Law Special Events Office at <a href="mailto:specialevents@law.utexas.edu">specialevents@law.utexas.edu</a> no later than seven business days prior to the event.</p>
CATEGORIES:Panel Discussion / Speaker Series
LOCATION:TNH 3.126 - Ratliff Classroom
URL:http://law.utexas.edu/calendar/2014/02/21/18333/
CLASS:PUBLIC
STATUS:CONFIRMED

END:VEVENT
END:VCALENDAR