BEGIN:VCALENDAR
VERSION:2.0
PRODID:-//UNIVERSITY OF TEXAS SCHOOL OF LAW//NONSGML Events Calendar v1.0//EN
X-WR-TIMEZONE:America/Chicago
BEGIN:VTIMEZONE
TZID:US/Central
X-LIC-LOCATION:America/Chicago
BEGIN:DAYLIGHT
TZOFFSETFROM:-0600
TZOFFSETTO:-0500
TZNAME:CDT
DTSTART:19700308T020000
RRULE:FREQ=YEARLY;BYMONTH=3;BYDAY=2SU
END:DAYLIGHT
BEGIN:STANDARD
TZOFFSETFROM:-0500
TZOFFSETTO:-0600
TZNAME:CST
DTSTART:19701101T020000
RRULE:FREQ=YEARLY;BYMONTH=11;BYDAY=1SU
END:STANDARD
END:VTIMEZONE
BEGIN:VEVENT
DTSTART;TZID=US/Central:20140221T144500
DTEND;VALUE=DATE-TIME;TZID=US/Central:20140221T180000

DTSTAMP:20260421T194600Z
CREATED:20140206T202500Z
LAST-MODIFIED:20140206T202600Z
UID:20140221T144500-18571@law.utexas.edu
SUMMARY:ALSA-JacksonWalker Mock Interview Progrm
DESCRIPTION:<p>2:45		Welcome/Registration
  3:00-3:30	Presentation: The Business of Law
  3:30-4:00	Panel Discussion: The Importance of Networking
  4:00-5:00	Mock Interviews
  4:00-6:00	Cocktail Reception
  All ALSA Members (1L, 2L, 3L, LLM) are encouraged to attend.</p>
  <p>The Business of Law (3:00 – 3:30)
  + Matt Dow, Managing Partner of JW’s Austin office, will give a presentation to provide students with an understanding of law firm economics, and how these economics shape decisions made by law firms
  + All law students – 1L, 2L, 3L, and LLM – should benefit from this presentation</p>
  <p>Panel: The Importance of Networking (3:30 – 4:00)
  + Moderated panel will include Jackson Walker Attorneys (including Asian-American attorneys) and AAABA Volunteers
  + Discussion will cover tips for effective networking, including do’s and don’t’s
  + A topic that should be relevant to law students of all levels</p>
  <p>Mock Interviews (4:00 – 5:00)
  + Interviews will conducted by teams of two attorneys, with at least one AAABA member (contingent on number of AAABA volunteers)
  + 20 minutes of interview followed by 10 minutes of feedback from interviewers
  + Not limited to 1Ls – anyone interested may interview</p>
  <p>Cocktail Reception (4:00 – 6:00)
  + All members of ALSA and AAABA as well as JW attorneys (including Asian-American attorneys from offices outside Austin) are invited
  + Overlaps with mock interviews, so that those interviewing at 4:30 need not be idle while waiting for their interview</p>\n\nIf you need an accommodation to participate in this event, please contact the event sponsor or the Texas Law Special Events Office at specialevents@law.utexas.edu no later than seven business days prior to the event.
X-ALT-DESC;FMTTYPE=text/html:<p>2:45		Welcome/Registration
  3:00-3:30	Presentation: The Business of Law
  3:30-4:00	Panel Discussion: The Importance of Networking
  4:00-5:00	Mock Interviews
  4:00-6:00	Cocktail Reception
  All ALSA Members (1L, 2L, 3L, LLM) are encouraged to attend.</p>
  <p>The Business of Law (3:00 – 3:30)
  + Matt Dow, Managing Partner of JW’s Austin office, will give a presentation to provide students with an understanding of law firm economics, and how these economics shape decisions made by law firms
  + All law students – 1L, 2L, 3L, and LLM – should benefit from this presentation</p>
  <p>Panel: The Importance of Networking (3:30 – 4:00)
  + Moderated panel will include Jackson Walker Attorneys (including Asian-American attorneys) and AAABA Volunteers
  + Discussion will cover tips for effective networking, including do’s and don’t’s
  + A topic that should be relevant to law students of all levels</p>
  <p>Mock Interviews (4:00 – 5:00)
  + Interviews will conducted by teams of two attorneys, with at least one AAABA member (contingent on number of AAABA volunteers)
  + 20 minutes of interview followed by 10 minutes of feedback from interviewers
  + Not limited to 1Ls – anyone interested may interview</p>
  <p>Cocktail Reception (4:00 – 6:00)
  + All members of ALSA and AAABA as well as JW attorneys (including Asian-American attorneys from offices outside Austin) are invited
  + Overlaps with mock interviews, so that those interviewing at 4:30 need not be idle while waiting for their interview</p><p>If you need an accommodation to participate in this event, please contact the event
                                          event sponsor or the Texas Law Special Events Office at <a href="mailto:specialevents@law.utexas.edu">specialevents@law.utexas.edu</a> no later than seven business days prior to the event.</p>
CATEGORIES:Interview Program
LOCATION:Jackson Walker L.L.P., 100 Congress Avenue, Suite 1100
URL:http://law.utexas.edu/calendar/2014/02/21/18571/
CLASS:PUBLIC
STATUS:CONFIRMED

END:VEVENT
END:VCALENDAR