BEGIN:VCALENDAR
VERSION:2.0
PRODID:-//UNIVERSITY OF TEXAS SCHOOL OF LAW//NONSGML Events Calendar v1.0//EN
X-WR-TIMEZONE:America/Chicago
BEGIN:VTIMEZONE
TZID:US/Central
X-LIC-LOCATION:America/Chicago
BEGIN:DAYLIGHT
TZOFFSETFROM:-0600
TZOFFSETTO:-0500
TZNAME:CDT
DTSTART:19700308T020000
RRULE:FREQ=YEARLY;BYMONTH=3;BYDAY=2SU
END:DAYLIGHT
BEGIN:STANDARD
TZOFFSETFROM:-0500
TZOFFSETTO:-0600
TZNAME:CST
DTSTART:19701101T020000
RRULE:FREQ=YEARLY;BYMONTH=11;BYDAY=1SU
END:STANDARD
END:VTIMEZONE
BEGIN:VEVENT
DTSTART;TZID=US/Central:20140414T120000
DTEND;VALUE=DATE-TIME;TZID=US/Central:20140414T130000

DTSTAMP:20260421T181700Z
CREATED:20140407T221900Z
LAST-MODIFIED:20140407T223500Z
UID:20140414T120000-18800@law.utexas.edu
SUMMARY:The Lawrence Legacy: Lawrence v. Texas
DESCRIPTION:<p>Join us for a conversation, commentary and free lunch with Dale Carpenter and John Nechman.</p>
  <p>Mr. Carpenter is the the Earl R. Larson Professor of Civil Rights and Civil Liberties Law at the University of Minnesota Law School. He authored the 2012 book, Flagrant Conduct: the Story of Lawrence v. Texas. Additionally, Mr. Carpenter is a contributor to the Volokh Conspiracy blog.</p>
  <p>Mr. Nechman is a partner with Katine and Nechman, which served as local counsel to John Lawrence and Tyron Garner. He will provide commentary about the impact of the Lawrence v. Texas litigation generally and on Messrs. Lawrence and Garner.</p>\n\nIf you need an accommodation to participate in this event, please contact the event sponsor or the Texas Law Special Events Office at specialevents@law.utexas.edu no later than seven business days prior to the event.
X-ALT-DESC;FMTTYPE=text/html:<p>Join us for a conversation, commentary and free lunch with Dale Carpenter and John Nechman.</p>
  <p>Mr. Carpenter is the the Earl R. Larson Professor of Civil Rights and Civil Liberties Law at the University of Minnesota Law School. He authored the 2012 book, Flagrant Conduct: the Story of Lawrence v. Texas. Additionally, Mr. Carpenter is a contributor to the Volokh Conspiracy blog.</p>
  <p>Mr. Nechman is a partner with Katine and Nechman, which served as local counsel to John Lawrence and Tyron Garner. He will provide commentary about the impact of the Lawrence v. Texas litigation generally and on Messrs. Lawrence and Garner.</p><p>If you need an accommodation to participate in this event, please contact the event
                                          event sponsor or the Texas Law Special Events Office at <a href="mailto:specialevents@law.utexas.edu">specialevents@law.utexas.edu</a> no later than seven business days prior to the event.</p>

LOCATION:TNH 2.140 - Wright Classroom
URL:http://law.utexas.edu/calendar/2014/04/14/18800/
CLASS:PUBLIC
STATUS:CONFIRMED

END:VEVENT
END:VCALENDAR