BEGIN:VCALENDAR
VERSION:2.0
PRODID:-//UNIVERSITY OF TEXAS SCHOOL OF LAW//NONSGML Events Calendar v1.0//EN
X-WR-TIMEZONE:America/Chicago
BEGIN:VTIMEZONE
TZID:US/Central
X-LIC-LOCATION:America/Chicago
BEGIN:DAYLIGHT
TZOFFSETFROM:-0600
TZOFFSETTO:-0500
TZNAME:CDT
DTSTART:19700308T020000
RRULE:FREQ=YEARLY;BYMONTH=3;BYDAY=2SU
END:DAYLIGHT
BEGIN:STANDARD
TZOFFSETFROM:-0500
TZOFFSETTO:-0600
TZNAME:CST
DTSTART:19701101T020000
RRULE:FREQ=YEARLY;BYMONTH=11;BYDAY=1SU
END:STANDARD
END:VTIMEZONE
BEGIN:VEVENT
DTSTART;TZID=US/Central:20140415T120000
DTEND;VALUE=DATE-TIME;TZID=US/Central:20140415T130000

DTSTAMP:20260421T180800Z
CREATED:20140114T204300Z
LAST-MODIFIED:20140409T212700Z
UID:20140415T120000-18335@law.utexas.edu
SUMMARY:1Ls: Why Judicial Clerkships
DESCRIPTION:<p>1Ls: Come learn about judicial clerkships - what they are, why you should clerk, and what you need to be doing now to best position yourself to apply over the summer and in early fall. Panelists include <a href="http://judgepedia.org/Xavier_Rodriguez">Judge Xavier Rodriguez, ’87</a>, U.S. District Court for the Western District of Texas; <a href="http://www.linkedin.com/pub/nicole-lefave/42/1b1/86a">Nicole LeFave, ’12</a>, law clerk to Magistrate Judge Mark Lane, U.S. District Court for the Western District of Texas , and former law clerk to Judge Gregg Costa, U.S. District Court for the Southern District of Texas; <a href="http://www.bakerbotts.com/jeffrey-t-quilici/">Jeff Quilici, ’12</a>, former law clerk to Judge Neil Gorsuch, U.S. Court of Appeals for the Tenth Circuit, and currently at Baker Botts L.L.P.; and <a href="http://www.kuhnhobbs.com/our-lawyers/">Lisa Hobbs '00</a>, former law clerk to Justice James A. Baker, Texas Supreme Court,  former Texas Supreme Court General Counsel, and currently with Kuhn Hobbs PLLC. Moderated by Professor Elana Einhorn.  RSVP by Monday, April 14, on <a title="UT Law Symplicity" href="https://law-utexas-csm.symplicity.com/students/">UT Law Symplicity</a> by selecting the 'Events' tab.</p>\n\nIf you need an accommodation to participate in this event, please contact the event sponsor or the Texas Law Special Events Office at specialevents@law.utexas.edu no later than seven business days prior to the event.
X-ALT-DESC;FMTTYPE=text/html:<p>1Ls: Come learn about judicial clerkships - what they are, why you should clerk, and what you need to be doing now to best position yourself to apply over the summer and in early fall. Panelists include <a href="http://judgepedia.org/Xavier_Rodriguez">Judge Xavier Rodriguez, ’87</a>, U.S. District Court for the Western District of Texas; <a href="http://www.linkedin.com/pub/nicole-lefave/42/1b1/86a">Nicole LeFave, ’12</a>, law clerk to Magistrate Judge Mark Lane, U.S. District Court for the Western District of Texas , and former law clerk to Judge Gregg Costa, U.S. District Court for the Southern District of Texas; <a href="http://www.bakerbotts.com/jeffrey-t-quilici/">Jeff Quilici, ’12</a>, former law clerk to Judge Neil Gorsuch, U.S. Court of Appeals for the Tenth Circuit, and currently at Baker Botts L.L.P.; and <a href="http://www.kuhnhobbs.com/our-lawyers/">Lisa Hobbs '00</a>, former law clerk to Justice James A. Baker, Texas Supreme Court,  former Texas Supreme Court General Counsel, and currently with Kuhn Hobbs PLLC. Moderated by Professor Elana Einhorn.  RSVP by Monday, April 14, on <a title="UT Law Symplicity" href="https://law-utexas-csm.symplicity.com/students/">UT Law Symplicity</a> by selecting the 'Events' tab.</p><p>If you need an accommodation to participate in this event, please contact the event
                                          event sponsor or the Texas Law Special Events Office at <a href="mailto:specialevents@law.utexas.edu">specialevents@law.utexas.edu</a> no later than seven business days prior to the event.</p>
CATEGORIES:Workshop / Training Program
LOCATION:CCJ 2.306 - Eidman Courtroom
URL:http://law.utexas.edu/calendar/2014/04/15/18335/
CLASS:PUBLIC
STATUS:CONFIRMED
COMMENT:Please contact Remi Ratliff, Director of Judicial Programs, at 512-232-1163 or <a href="mailto:rratliff@law.utexas.edu">rratliff@law.utexas.edu</a>.
END:VEVENT
END:VCALENDAR