BEGIN:VCALENDAR
VERSION:2.0
PRODID:-//UNIVERSITY OF TEXAS SCHOOL OF LAW//NONSGML Events Calendar v1.0//EN
X-WR-TIMEZONE:America/Chicago
BEGIN:VTIMEZONE
TZID:US/Central
X-LIC-LOCATION:America/Chicago
BEGIN:DAYLIGHT
TZOFFSETFROM:-0600
TZOFFSETTO:-0500
TZNAME:CDT
DTSTART:19700308T020000
RRULE:FREQ=YEARLY;BYMONTH=3;BYDAY=2SU
END:DAYLIGHT
BEGIN:STANDARD
TZOFFSETFROM:-0500
TZOFFSETTO:-0600
TZNAME:CST
DTSTART:19701101T020000
RRULE:FREQ=YEARLY;BYMONTH=11;BYDAY=1SU
END:STANDARD
END:VTIMEZONE
BEGIN:VEVENT
DTSTART;TZID=US/Central:20140416T114500
DTEND;VALUE=DATE-TIME;TZID=US/Central:20140416T124500

DTSTAMP:20260421T162500Z
CREATED:20140227T195000Z
LAST-MODIFIED:20140311T134700Z
UID:20140416T114500-18668@law.utexas.edu
SUMMARY:Northwestern Univ. Tax Law LL.M.
DESCRIPTION:<p>Join Professor Philip Postlewaite, the Director of the <a href="http://www.law.northwestern.edu/academics/tax/index.html">Tax Program at Northwestern University School of Law</a>, to learn more about Northwestern's LL.M. in Taxation Program in Chicago, Illinois. The presentation is open to all J.D. students interested in pursuing the LL.M. degree on either a full-time or part-time basis following graduation. Lunch will be served. RSVP by Tuesday, March 18, on <a title="UT Law Symplicity" href="https://law-utexas-csm.symplicity.com/students/">UT Law Symplicity</a> by selecting the 'Events' tab.</p>\n\nIf you need an accommodation to participate in this event, please contact the event sponsor or the Texas Law Special Events Office at specialevents@law.utexas.edu no later than seven business days prior to the event.
X-ALT-DESC;FMTTYPE=text/html:<p>Join Professor Philip Postlewaite, the Director of the <a href="http://www.law.northwestern.edu/academics/tax/index.html">Tax Program at Northwestern University School of Law</a>, to learn more about Northwestern's LL.M. in Taxation Program in Chicago, Illinois. The presentation is open to all J.D. students interested in pursuing the LL.M. degree on either a full-time or part-time basis following graduation. Lunch will be served. RSVP by Tuesday, March 18, on <a title="UT Law Symplicity" href="https://law-utexas-csm.symplicity.com/students/">UT Law Symplicity</a> by selecting the 'Events' tab.</p><p>If you need an accommodation to participate in this event, please contact the event
                                          event sponsor or the Texas Law Special Events Office at <a href="mailto:specialevents@law.utexas.edu">specialevents@law.utexas.edu</a> no later than seven business days prior to the event.</p>
CATEGORIES:Meeting
LOCATION:TNH 3.127 - Roberts Classroom
URL:http://law.utexas.edu/calendar/2014/04/16/18668/
CLASS:PUBLIC
STATUS:CONFIRMED
COMMENT:Please contact Natalie Aitken, Career Counselor, at 512-232-1162 or <a href="mailto:naitken@law.utexas.edu">naitken@law.utexas.edu</a>.
END:VEVENT
END:VCALENDAR