BEGIN:VCALENDAR
VERSION:2.0
PRODID:-//UNIVERSITY OF TEXAS SCHOOL OF LAW//NONSGML Events Calendar v1.0//EN
X-WR-TIMEZONE:America/Chicago
BEGIN:VTIMEZONE
TZID:US/Central
X-LIC-LOCATION:America/Chicago
BEGIN:DAYLIGHT
TZOFFSETFROM:-0600
TZOFFSETTO:-0500
TZNAME:CDT
DTSTART:19700308T020000
RRULE:FREQ=YEARLY;BYMONTH=3;BYDAY=2SU
END:DAYLIGHT
BEGIN:STANDARD
TZOFFSETFROM:-0500
TZOFFSETTO:-0600
TZNAME:CST
DTSTART:19701101T020000
RRULE:FREQ=YEARLY;BYMONTH=11;BYDAY=1SU
END:STANDARD
END:VTIMEZONE
BEGIN:VEVENT
DTSTART;TZID=US/Central:20140416T120000
DTEND;VALUE=DATE-TIME;TZID=US/Central:20140416T150000

DTSTAMP:20260421T181700Z
CREATED:20140411T230900Z
LAST-MODIFIED:20140411T230900Z
UID:20140416T120000-18816@law.utexas.edu
SUMMARY:ASAP Fundraiser
DESCRIPTION:<p>Ice cream study break, you scream study break, we all scream study break!!! </p>
  <p>ASAP’s last fundraiser of the year is gonna be COOL--join us on Wednesday, April 16th in the Atrium from noon to 3 pm for do-it-yourself ice cream sundaes. As always, 100% of profits support survivors of domestic violence in Austin. Do good, feel good!</p>
  <p>Join the Facebook event: <a href="https://www.facebook.com/events/1497277253826014/">https://www.facebook.com/events/1497277253826014/</a></p>\n\nIf you need an accommodation to participate in this event, please contact the event sponsor or the Texas Law Special Events Office at specialevents@law.utexas.edu no later than seven business days prior to the event.
X-ALT-DESC;FMTTYPE=text/html:<p>Ice cream study break, you scream study break, we all scream study break!!! </p>
  <p>ASAP’s last fundraiser of the year is gonna be COOL--join us on Wednesday, April 16th in the Atrium from noon to 3 pm for do-it-yourself ice cream sundaes. As always, 100% of profits support survivors of domestic violence in Austin. Do good, feel good!</p>
  <p>Join the Facebook event: <a href="https://www.facebook.com/events/1497277253826014/">https://www.facebook.com/events/1497277253826014/</a></p><p>If you need an accommodation to participate in this event, please contact the event
                                          event sponsor or the Texas Law Special Events Office at <a href="mailto:specialevents@law.utexas.edu">specialevents@law.utexas.edu</a> no later than seven business days prior to the event.</p>
CATEGORIES:Other
LOCATION:TNH 2.100 - Susman Godfrey Atrium
URL:http://law.utexas.edu/calendar/2014/04/16/18816/
CLASS:PUBLIC
STATUS:CONFIRMED

END:VEVENT
END:VCALENDAR