BEGIN:VCALENDAR
VERSION:2.0
PRODID:-//UNIVERSITY OF TEXAS SCHOOL OF LAW//NONSGML Events Calendar v1.0//EN
X-WR-TIMEZONE:America/Chicago
BEGIN:VTIMEZONE
TZID:US/Central
X-LIC-LOCATION:America/Chicago
BEGIN:DAYLIGHT
TZOFFSETFROM:-0600
TZOFFSETTO:-0500
TZNAME:CDT
DTSTART:19700308T020000
RRULE:FREQ=YEARLY;BYMONTH=3;BYDAY=2SU
END:DAYLIGHT
BEGIN:STANDARD
TZOFFSETFROM:-0500
TZOFFSETTO:-0600
TZNAME:CST
DTSTART:19701101T020000
RRULE:FREQ=YEARLY;BYMONTH=11;BYDAY=1SU
END:STANDARD
END:VTIMEZONE
BEGIN:VEVENT
DTSTART;TZID=US/Central:20140417T114500
DTEND;VALUE=DATE-TIME;TZID=US/Central:20140417T124500

DTSTAMP:20260421T180600Z
CREATED:20140113T184900Z
LAST-MODIFIED:20140410T212000Z
UID:20140417T114500-18328@law.utexas.edu
SUMMARY:Summer Nonprofit/Government Positions
DESCRIPTION:<p>Working for a nonprofit or government agency this summer? This session will prepare you to thrive and get the most out of your summer work experience. </p>
  <p>Tina Fernandez, Director of Pro Bono Programs, and Lucy Wood, Lecturer with the William Wayne Justice Center for Public Interest Law, along with a panel of students familiar with nonprofit and government settings, will discuss how to handle opportunities and challenges that come up in these unique work environments, including getting great work and supervision, and steering clear of ethical pitfalls. Moderated by Mary Crouter, Assistant Director of the William Wayne Justice Center for Public Interest Law. </p>
  <p>Lunch will be served. RSVP by Wednesday, April 16, on <a title="UT Law Symplicity" href="https://law-utexas-csm.symplicity.com/students/">UT Law Symplicity</a> by selecting the 'Events' tab.</p>
  <p>Sponsored by the William Wayne Justice Center for Public Interest Law and the Career Services Office.
  </p>\n\nIf you need an accommodation to participate in this event, please contact the event sponsor or the Texas Law Special Events Office at specialevents@law.utexas.edu no later than seven business days prior to the event.
X-ALT-DESC;FMTTYPE=text/html:<p>Working for a nonprofit or government agency this summer? This session will prepare you to thrive and get the most out of your summer work experience. </p>
  <p>Tina Fernandez, Director of Pro Bono Programs, and Lucy Wood, Lecturer with the William Wayne Justice Center for Public Interest Law, along with a panel of students familiar with nonprofit and government settings, will discuss how to handle opportunities and challenges that come up in these unique work environments, including getting great work and supervision, and steering clear of ethical pitfalls. Moderated by Mary Crouter, Assistant Director of the William Wayne Justice Center for Public Interest Law. </p>
  <p>Lunch will be served. RSVP by Wednesday, April 16, on <a title="UT Law Symplicity" href="https://law-utexas-csm.symplicity.com/students/">UT Law Symplicity</a> by selecting the 'Events' tab.</p>
  <p>Sponsored by the William Wayne Justice Center for Public Interest Law and the Career Services Office.
  </p><p>If you need an accommodation to participate in this event, please contact the event
                                          event sponsor or the Texas Law Special Events Office at <a href="mailto:specialevents@law.utexas.edu">specialevents@law.utexas.edu</a> no later than seven business days prior to the event.</p>
CATEGORIES:Workshop / Training Program
LOCATION:CCJ 2.306 - Eidman Courtroom
URL:http://law.utexas.edu/calendar/2014/04/17/18328/
CLASS:PUBLIC
STATUS:CONFIRMED
COMMENT:Please contact Nicole Simmons, Director of Public Service Programs, at 512-232-1160 or <a href="mailto:nsimmons@law.utexas.edu">nsimmons@law.utexas.edu</a>.
END:VEVENT
END:VCALENDAR