BEGIN:VCALENDAR
VERSION:2.0
PRODID:-//UNIVERSITY OF TEXAS SCHOOL OF LAW//NONSGML Events Calendar v1.0//EN
X-WR-TIMEZONE:America/Chicago
BEGIN:VTIMEZONE
TZID:US/Central
X-LIC-LOCATION:America/Chicago
BEGIN:DAYLIGHT
TZOFFSETFROM:-0600
TZOFFSETTO:-0500
TZNAME:CDT
DTSTART:19700308T020000
RRULE:FREQ=YEARLY;BYMONTH=3;BYDAY=2SU
END:DAYLIGHT
BEGIN:STANDARD
TZOFFSETFROM:-0500
TZOFFSETTO:-0600
TZNAME:CST
DTSTART:19701101T020000
RRULE:FREQ=YEARLY;BYMONTH=11;BYDAY=1SU
END:STANDARD
END:VTIMEZONE
BEGIN:VEVENT
DTSTART;TZID=US/Central:20140417T093000
DTEND;VALUE=DATE-TIME;TZID=US/Central:20140417T133000

DTSTAMP:20260421T181700Z
CREATED:20140116T181900Z
LAST-MODIFIED:20140416T214800Z
UID:20140417T093000-18357@law.utexas.edu
SUMMARY:CSO Study Break
DESCRIPTION:<p>Need to take a break from studying for exams? Stop by the Atrium, visit with the CSO staff, and grab a snack and some swag for studying. Breakfast pastries, along with coffee courtesy of O’s Campus Café, will be served in the morning at 9:30 a.m. and pizza will be served in the afternoon at 11:45 a.m. All UT Law students are invited!</p>
  <p>Please take a moment to complete a short four-question survey on <a title="UT Law Symplicity" href="https://law-utexas-csm.symplicity.com/students/">UT Law Symplicity</a> by selecting the “Survey” tab. Surveys must be completed by 5:00 p.m. on Thursday, April 17, in order to be included in the drawing for prizes.</p>\n\nIf you need an accommodation to participate in this event, please contact the event sponsor or the Texas Law Special Events Office at specialevents@law.utexas.edu no later than seven business days prior to the event.
X-ALT-DESC;FMTTYPE=text/html:<p>Need to take a break from studying for exams? Stop by the Atrium, visit with the CSO staff, and grab a snack and some swag for studying. Breakfast pastries, along with coffee courtesy of O’s Campus Café, will be served in the morning at 9:30 a.m. and pizza will be served in the afternoon at 11:45 a.m. All UT Law students are invited!</p>
  <p>Please take a moment to complete a short four-question survey on <a title="UT Law Symplicity" href="https://law-utexas-csm.symplicity.com/students/">UT Law Symplicity</a> by selecting the “Survey” tab. Surveys must be completed by 5:00 p.m. on Thursday, April 17, in order to be included in the drawing for prizes.</p><p>If you need an accommodation to participate in this event, please contact the event
                                          event sponsor or the Texas Law Special Events Office at <a href="mailto:specialevents@law.utexas.edu">specialevents@law.utexas.edu</a> no later than seven business days prior to the event.</p>
CATEGORIES:Other
LOCATION:TNH 2.100 - Susman Godfrey Atrium
URL:http://law.utexas.edu/calendar/2014/04/17/18357/
CLASS:PUBLIC
STATUS:CONFIRMED
COMMENT:Please contact Denyse Demel, Government Career Counselor, at 512-232-1162 or <a href="mailto:ddemel@law.utexas.edu">ddemel@law.utexas.edu</a>.
END:VEVENT
END:VCALENDAR