BEGIN:VCALENDAR
VERSION:2.0
PRODID:-//UNIVERSITY OF TEXAS SCHOOL OF LAW//NONSGML Events Calendar v1.0//EN
X-WR-TIMEZONE:America/Chicago
BEGIN:VTIMEZONE
TZID:US/Central
X-LIC-LOCATION:America/Chicago
BEGIN:DAYLIGHT
TZOFFSETFROM:-0600
TZOFFSETTO:-0500
TZNAME:CDT
DTSTART:19700308T020000
RRULE:FREQ=YEARLY;BYMONTH=3;BYDAY=2SU
END:DAYLIGHT
BEGIN:STANDARD
TZOFFSETFROM:-0500
TZOFFSETTO:-0600
TZNAME:CST
DTSTART:19701101T020000
RRULE:FREQ=YEARLY;BYMONTH=11;BYDAY=1SU
END:STANDARD
END:VTIMEZONE
BEGIN:VEVENT
DTSTART;TZID=US/Central:20140417T114500
DTEND;VALUE=DATE-TIME;TZID=US/Central:20140417T133000

DTSTAMP:20260421T162600Z
CREATED:20140326T202700Z
LAST-MODIFIED:20140409T023200Z
UID:20140417T114500-18750@law.utexas.edu
SUMMARY:3L Lunch
DESCRIPTION:<p>You worked hard—lunch is on the Alumni Association!
   
  3L Taco Bar from Maudie’s Tex-Mex!
   
  April 17th in the breezeway!
  11:45 a.m.-1:30 p.m.</p>
  <p>PS--Save the date!! 3L Grad Party May 13th!
  </p>\n\nIf you need an accommodation to participate in this event, please contact the event sponsor or the Texas Law Special Events Office at specialevents@law.utexas.edu no later than seven business days prior to the event.
X-ALT-DESC;FMTTYPE=text/html:<p>You worked hard—lunch is on the Alumni Association!
   
  3L Taco Bar from Maudie’s Tex-Mex!
   
  April 17th in the breezeway!
  11:45 a.m.-1:30 p.m.</p>
  <p>PS--Save the date!! 3L Grad Party May 13th!
  </p><p>If you need an accommodation to participate in this event, please contact the event
                                          event sponsor or the Texas Law Special Events Office at <a href="mailto:specialevents@law.utexas.edu">specialevents@law.utexas.edu</a> no later than seven business days prior to the event.</p>
CATEGORIES:Lunch

URL:http://law.utexas.edu/calendar/2014/04/17/18750/
CLASS:PUBLIC
STATUS:CONFIRMED

END:VEVENT
END:VCALENDAR