BEGIN:VCALENDAR
VERSION:2.0
PRODID:-//UNIVERSITY OF TEXAS SCHOOL OF LAW//NONSGML Events Calendar v1.0//EN
X-WR-TIMEZONE:America/Chicago
BEGIN:VTIMEZONE
TZID:US/Central
X-LIC-LOCATION:America/Chicago
BEGIN:DAYLIGHT
TZOFFSETFROM:-0600
TZOFFSETTO:-0500
TZNAME:CDT
DTSTART:19700308T020000
RRULE:FREQ=YEARLY;BYMONTH=3;BYDAY=2SU
END:DAYLIGHT
BEGIN:STANDARD
TZOFFSETFROM:-0500
TZOFFSETTO:-0600
TZNAME:CST
DTSTART:19701101T020000
RRULE:FREQ=YEARLY;BYMONTH=11;BYDAY=1SU
END:STANDARD
END:VTIMEZONE
BEGIN:VEVENT
DTSTART;TZID=US/Central:20140417T180000
DTEND;VALUE=DATE-TIME;TZID=US/Central:20140417T193000

DTSTAMP:20260421T162700Z
CREATED:20140407T161600Z
LAST-MODIFIED:20140408T230000Z
UID:20140417T180000-18799@law.utexas.edu
SUMMARY:Movie screening: "Big Men" (2014)
DESCRIPTION:<p>Exclusive screening! TJOGEL, the Energy Center and RMMLF are proud to host the Austin premiere of the award-winning film. #1 film on Metacritic.com. "Astonishing . . . as remarkable for its access as for its refusal to judge. Should the enormous risks and staggering costs of getting to “first oil” guarantee its finder — in this case, a small Texas start-up called Kosmos Energy — a sweetheart deal from the Ghanaian government? Bringing to life a netherworld of shifting agreements and shuffling allegiances, “Big Men” unfurls a complicated story teeming with masked militants, well-fed politicians, reassuring suits and the desperate poor." -- New York Times (3/14)</p>\n\nIf you need an accommodation to participate in this event, please contact the event sponsor or the Texas Law Special Events Office at specialevents@law.utexas.edu no later than seven business days prior to the event.
X-ALT-DESC;FMTTYPE=text/html:<p>Exclusive screening! TJOGEL, the Energy Center and RMMLF are proud to host the Austin premiere of the award-winning film. #1 film on Metacritic.com. "Astonishing . . . as remarkable for its access as for its refusal to judge. Should the enormous risks and staggering costs of getting to “first oil” guarantee its finder — in this case, a small Texas start-up called Kosmos Energy — a sweetheart deal from the Ghanaian government? Bringing to life a netherworld of shifting agreements and shuffling allegiances, “Big Men” unfurls a complicated story teeming with masked militants, well-fed politicians, reassuring suits and the desperate poor." -- New York Times (3/14)</p><p>If you need an accommodation to participate in this event, please contact the event
                                          event sponsor or the Texas Law Special Events Office at <a href="mailto:specialevents@law.utexas.edu">specialevents@law.utexas.edu</a> no later than seven business days prior to the event.</p>
CATEGORIES:Other
LOCATION:TNH 2.114 - Francis Auditorium
URL:http://law.utexas.edu/calendar/2014/04/17/18799/
CLASS:PUBLIC
STATUS:CONFIRMED

END:VEVENT
END:VCALENDAR