BEGIN:VCALENDAR
VERSION:2.0
PRODID:-//UNIVERSITY OF TEXAS SCHOOL OF LAW//NONSGML Events Calendar v1.0//EN
X-WR-TIMEZONE:America/Chicago
BEGIN:VTIMEZONE
TZID:US/Central
X-LIC-LOCATION:America/Chicago
BEGIN:DAYLIGHT
TZOFFSETFROM:-0600
TZOFFSETTO:-0500
TZNAME:CDT
DTSTART:19700308T020000
RRULE:FREQ=YEARLY;BYMONTH=3;BYDAY=2SU
END:DAYLIGHT
BEGIN:STANDARD
TZOFFSETFROM:-0500
TZOFFSETTO:-0600
TZNAME:CST
DTSTART:19701101T020000
RRULE:FREQ=YEARLY;BYMONTH=11;BYDAY=1SU
END:STANDARD
END:VTIMEZONE
BEGIN:VEVENT
DTSTART;TZID=US/Central:20140422T100000
DTEND;VALUE=DATE-TIME;TZID=US/Central:20140422T140000

DTSTAMP:20260421T162700Z
CREATED:20140414T154000Z
LAST-MODIFIED:20140414T154000Z
UID:20140422T100000-18818@law.utexas.edu
SUMMARY:Press Conference "Heat in TX Prisons"
DESCRIPTION:<p>This is a press conference to present a report called "Deadly Heat in Texas Prisons" produced by the Human Rights Clinic.  Clinic students will present their findings on certain penitentiaries in Texas which have no air conditioning.</p>\n\nIf you need an accommodation to participate in this event, please contact the event sponsor or the Texas Law Special Events Office at specialevents@law.utexas.edu no later than seven business days prior to the event.
X-ALT-DESC;FMTTYPE=text/html:<p>This is a press conference to present a report called "Deadly Heat in Texas Prisons" produced by the Human Rights Clinic.  Clinic students will present their findings on certain penitentiaries in Texas which have no air conditioning.</p><p>If you need an accommodation to participate in this event, please contact the event
                                          event sponsor or the Texas Law Special Events Office at <a href="mailto:specialevents@law.utexas.edu">specialevents@law.utexas.edu</a> no later than seven business days prior to the event.</p>
CATEGORIES:Other
LOCATION:
URL:http://law.utexas.edu/calendar/2014/04/22/18818/
CLASS:PUBLIC
STATUS:CONFIRMED

END:VEVENT
END:VCALENDAR