BEGIN:VCALENDAR
VERSION:2.0
PRODID:-//UNIVERSITY OF TEXAS SCHOOL OF LAW//NONSGML Events Calendar v1.0//EN
X-WR-TIMEZONE:America/Chicago
BEGIN:VTIMEZONE
TZID:US/Central
X-LIC-LOCATION:America/Chicago
BEGIN:DAYLIGHT
TZOFFSETFROM:-0600
TZOFFSETTO:-0500
TZNAME:CDT
DTSTART:19700308T020000
RRULE:FREQ=YEARLY;BYMONTH=3;BYDAY=2SU
END:DAYLIGHT
BEGIN:STANDARD
TZOFFSETFROM:-0500
TZOFFSETTO:-0600
TZNAME:CST
DTSTART:19701101T020000
RRULE:FREQ=YEARLY;BYMONTH=11;BYDAY=1SU
END:STANDARD
END:VTIMEZONE
BEGIN:VEVENT
DTSTART;TZID=US/Central:20140424T120000
DTEND;VALUE=DATE-TIME;TZID=US/Central:20140424T130000

DTSTAMP:20260421T162700Z
CREATED:20140123T223900Z
LAST-MODIFIED:20140401T170200Z
UID:20140424T120000-18454@law.utexas.edu
SUMMARY:Justice Ctr Ice Cream Social/SBA Awards
DESCRIPTION:<p>End of year reception recognizing the SBA Award winners, Justice Center Graduating Student Award winners, Class of 2014 post-graduate fellowship recipients, students who have performed pro bono service, and the 2014 Whitehurst Public Interest Summer Fellows, and celebrating the law school's culture of using the law to serve others, with pizza and Amy's Ice Cream for all.</p>\n\nIf you need an accommodation to participate in this event, please contact the event sponsor or the Texas Law Special Events Office at specialevents@law.utexas.edu no later than seven business days prior to the event.
X-ALT-DESC;FMTTYPE=text/html:<p>End of year reception recognizing the SBA Award winners, Justice Center Graduating Student Award winners, Class of 2014 post-graduate fellowship recipients, students who have performed pro bono service, and the 2014 Whitehurst Public Interest Summer Fellows, and celebrating the law school's culture of using the law to serve others, with pizza and Amy's Ice Cream for all.</p><p>If you need an accommodation to participate in this event, please contact the event
                                          event sponsor or the Texas Law Special Events Office at <a href="mailto:specialevents@law.utexas.edu">specialevents@law.utexas.edu</a> no later than seven business days prior to the event.</p>
CATEGORIES:Other
LOCATION:TNH 2.100 - Susman Godfrey Atrium
URL:http://law.utexas.edu/calendar/2014/04/24/18454/
CLASS:PUBLIC
STATUS:CONFIRMED

END:VEVENT
END:VCALENDAR