BEGIN:VCALENDAR
VERSION:2.0
PRODID:-//UNIVERSITY OF TEXAS SCHOOL OF LAW//NONSGML Events Calendar v1.0//EN
X-WR-TIMEZONE:America/Chicago
BEGIN:VTIMEZONE
TZID:US/Central
X-LIC-LOCATION:America/Chicago
BEGIN:DAYLIGHT
TZOFFSETFROM:-0600
TZOFFSETTO:-0500
TZNAME:CDT
DTSTART:19700308T020000
RRULE:FREQ=YEARLY;BYMONTH=3;BYDAY=2SU
END:DAYLIGHT
BEGIN:STANDARD
TZOFFSETFROM:-0500
TZOFFSETTO:-0600
TZNAME:CST
DTSTART:19701101T020000
RRULE:FREQ=YEARLY;BYMONTH=11;BYDAY=1SU
END:STANDARD
END:VTIMEZONE
BEGIN:VEVENT
DTSTART;TZID=US/Central:20140428T153000
DTEND;VALUE=DATE-TIME;TZID=US/Central:20140428T174500

DTSTAMP:20260421T133300Z
CREATED:20140107T213600Z
LAST-MODIFIED:20140123T220300Z
UID:20140428T153000-18260@law.utexas.edu
SUMMARY:The Law, Business and Economics Workshop
DESCRIPTION:<p>The Law, Business, and Economics Workshop Series serves as an important focal point at the University of Texas for research on the economic analysis of law and business. The workshop generally involves presentations by guests from outside the University community. Students can take the workshop as a course, which focuses on their presentation of written critiques of each of the papers presented in the workshop series.</p>\n\nIf you need an accommodation to participate in this event, please contact the event sponsor or the Texas Law Special Events Office at specialevents@law.utexas.edu no later than seven business days prior to the event. Speaker: Henry T. C. Hu, Allan Shivers Chair in the Law of Banking and Finance, University of Texas
X-ALT-DESC;FMTTYPE=text/html:<p>The Law, Business, and Economics Workshop Series serves as an important focal point at the University of Texas for research on the economic analysis of law and business. The workshop generally involves presentations by guests from outside the University community. Students can take the workshop as a course, which focuses on their presentation of written critiques of each of the papers presented in the workshop series.</p><p>If you need an accommodation to participate in this event, please contact the event
                                          event sponsor or the Texas Law Special Events Office at <a href="mailto:specialevents@law.utexas.edu">specialevents@law.utexas.edu</a> no later than seven business days prior to the event.</p> Speaker: Henry T. C. Hu, Allan Shivers Chair in the Law of Banking and Finance, University of Texas

LOCATION:TNH 2.140 - Wright Classroom
URL:http://law.utexas.edu/calendar/2014/04/28/18260/
CLASS:PUBLIC
STATUS:CONFIRMED

END:VEVENT
END:VCALENDAR