BEGIN:VCALENDAR
VERSION:2.0
PRODID:-//UNIVERSITY OF TEXAS SCHOOL OF LAW//NONSGML Events Calendar v1.0//EN
X-WR-TIMEZONE:America/Chicago
BEGIN:VTIMEZONE
TZID:US/Central
X-LIC-LOCATION:America/Chicago
BEGIN:DAYLIGHT
TZOFFSETFROM:-0600
TZOFFSETTO:-0500
TZNAME:CDT
DTSTART:19700308T020000
RRULE:FREQ=YEARLY;BYMONTH=3;BYDAY=2SU
END:DAYLIGHT
BEGIN:STANDARD
TZOFFSETFROM:-0500
TZOFFSETTO:-0600
TZNAME:CST
DTSTART:19701101T020000
RRULE:FREQ=YEARLY;BYMONTH=11;BYDAY=1SU
END:STANDARD
END:VTIMEZONE
BEGIN:VEVENT
DTSTART;TZID=US/Central:20140517T153000


DTSTAMP:20260421T133000Z
CREATED:20140514T140900Z
LAST-MODIFIED:20140514T140900Z
UID:20140517T153000-18917@law.utexas.edu
SUMMARY:Sunflower Ceremony &amp; Commencement 2014
DESCRIPTION:<p>The 2014 Sunflower Ceremony will take place on Saturday, May 17, 2014 at 3:30 p.m. at the Frank Erwin Jr. Special Events Center. Degree candidates, their families and friends are invited to celebrate the accomplishments of the graduating class.</p>
  <p>Degree candidates should arrive at the Erwin Center by 2:45 p.m.  The dress code for degree candidates is “business attire,” as you would wear in a courtroom.</p>\n\nIf you need an accommodation to participate in this event, please contact the event sponsor or the Texas Law Special Events Office at specialevents@law.utexas.edu no later than seven business days prior to the event.
X-ALT-DESC;FMTTYPE=text/html:<p>The 2014 Sunflower Ceremony will take place on Saturday, May 17, 2014 at 3:30 p.m. at the Frank Erwin Jr. Special Events Center. Degree candidates, their families and friends are invited to celebrate the accomplishments of the graduating class.</p>
  <p>Degree candidates should arrive at the Erwin Center by 2:45 p.m.  The dress code for degree candidates is “business attire,” as you would wear in a courtroom.</p><p>If you need an accommodation to participate in this event, please contact the event
                                          event sponsor or the Texas Law Special Events Office at <a href="mailto:specialevents@law.utexas.edu">specialevents@law.utexas.edu</a> no later than seven business days prior to the event.</p>
CATEGORIES:Other
LOCATION:Frank Erwin Jr. Special Events Center
URL:http://law.utexas.edu/calendar/2014/05/17/18917/
CLASS:PUBLIC
STATUS:CONFIRMED
COMMENT:http://www.utexas.edu/law/sao/graduation/
END:VEVENT
END:VCALENDAR