BEGIN:VCALENDAR
VERSION:2.0
PRODID:-//UNIVERSITY OF TEXAS SCHOOL OF LAW//NONSGML Events Calendar v1.0//EN
X-WR-TIMEZONE:America/Chicago
BEGIN:VTIMEZONE
TZID:US/Central
X-LIC-LOCATION:America/Chicago
BEGIN:DAYLIGHT
TZOFFSETFROM:-0600
TZOFFSETTO:-0500
TZNAME:CDT
DTSTART:19700308T020000
RRULE:FREQ=YEARLY;BYMONTH=3;BYDAY=2SU
END:DAYLIGHT
BEGIN:STANDARD
TZOFFSETFROM:-0500
TZOFFSETTO:-0600
TZNAME:CST
DTSTART:19701101T020000
RRULE:FREQ=YEARLY;BYMONTH=11;BYDAY=1SU
END:STANDARD
END:VTIMEZONE
BEGIN:VEVENT
DTSTART;TZID=US/Central:20140724


DTSTAMP:20260421T062200Z
CREATED:20140622T222100Z
LAST-MODIFIED:20140622T222100Z
UID:20140724T000000-19040@law.utexas.edu
SUMMARY:Fall OCI –Decline Period Closes
DESCRIPTION:<p>The first decline period closes today at noon (Central) via <a href="https://law-utexas-csm.symplicity.com/students">UT Law Symplicity</a>. Please note that students will not be able to view their awarded interviews on UT Law Symplicity from noon on July 24 until schedules and interview awards are released at noon (Central) on Wednesday, July 30, 2014. </p>\n\nIf you need an accommodation to participate in this event, please contact the event sponsor or the Texas Law Special Events Office at specialevents@law.utexas.edu no later than seven business days prior to the event.
X-ALT-DESC;FMTTYPE=text/html:<p>The first decline period closes today at noon (Central) via <a href="https://law-utexas-csm.symplicity.com/students">UT Law Symplicity</a>. Please note that students will not be able to view their awarded interviews on UT Law Symplicity from noon on July 24 until schedules and interview awards are released at noon (Central) on Wednesday, July 30, 2014. </p><p>If you need an accommodation to participate in this event, please contact the event
                                          event sponsor or the Texas Law Special Events Office at <a href="mailto:specialevents@law.utexas.edu">specialevents@law.utexas.edu</a> no later than seven business days prior to the event.</p>
CATEGORIES:Interview Program

URL:http://law.utexas.edu/calendar/2014/07/24/19040/
CLASS:PUBLIC
STATUS:CONFIRMED
COMMENT:Please contact Sandra Puga, On-Campus Interview Coordinator, at 512-232-1161 or <a href="mailto:spuga@law.utexas.edu">spuga@law.utexas.edu</a>.
END:VEVENT
END:VCALENDAR