BEGIN:VCALENDAR
VERSION:2.0
PRODID:-//UNIVERSITY OF TEXAS SCHOOL OF LAW//NONSGML Events Calendar v1.0//EN
X-WR-TIMEZONE:America/Chicago
BEGIN:VTIMEZONE
TZID:US/Central
X-LIC-LOCATION:America/Chicago
BEGIN:DAYLIGHT
TZOFFSETFROM:-0600
TZOFFSETTO:-0500
TZNAME:CDT
DTSTART:19700308T020000
RRULE:FREQ=YEARLY;BYMONTH=3;BYDAY=2SU
END:DAYLIGHT
BEGIN:STANDARD
TZOFFSETFROM:-0500
TZOFFSETTO:-0600
TZNAME:CST
DTSTART:19701101T020000
RRULE:FREQ=YEARLY;BYMONTH=11;BYDAY=1SU
END:STANDARD
END:VTIMEZONE
BEGIN:VEVENT
DTSTART;TZID=US/Central:20140818T123000
DTEND;VALUE=DATE-TIME;TZID=US/Central:20140818T133000

DTSTAMP:20260421T062200Z
CREATED:20140813T195000Z
LAST-MODIFIED:20140813T195000Z
UID:20140818T123000-19290@law.utexas.edu
SUMMARY:TELJ-ELS Lunch with Earthjustice
DESCRIPTION:<p>Meet Earthjustice's Seth Johnson</p>
  <p>TELJ and ELS are co-hosting a lunch with an attorney from this major environmental public interest law organization. Mr. Johnson is on campus interviewing for Earthjustice's summer clerkship program, but we will also ask him to speak about working on environmental legislation and litigation more generally for those of you still job-hunting or interested in transitioning to public interest later in your career. If you will be attending, please contact C.C. Huang, TELJ Managing Editor, at c.c.huang@utexas.edu ASAP.</p>\n\nIf you need an accommodation to participate in this event, please contact the event sponsor or the Texas Law Special Events Office at specialevents@law.utexas.edu no later than seven business days prior to the event.
X-ALT-DESC;FMTTYPE=text/html:<p>Meet Earthjustice's Seth Johnson</p>
  <p>TELJ and ELS are co-hosting a lunch with an attorney from this major environmental public interest law organization. Mr. Johnson is on campus interviewing for Earthjustice's summer clerkship program, but we will also ask him to speak about working on environmental legislation and litigation more generally for those of you still job-hunting or interested in transitioning to public interest later in your career. If you will be attending, please contact C.C. Huang, TELJ Managing Editor, at c.c.huang@utexas.edu ASAP.</p><p>If you need an accommodation to participate in this event, please contact the event
                                          event sponsor or the Texas Law Special Events Office at <a href="mailto:specialevents@law.utexas.edu">specialevents@law.utexas.edu</a> no later than seven business days prior to the event.</p>
CATEGORIES:Lunch
LOCATION:TNH 3.119
URL:http://law.utexas.edu/calendar/2014/08/18/19290/
CLASS:PUBLIC
STATUS:CONFIRMED
COMMENT:http://earthjustice.org/about/staff/seth-johnson
END:VEVENT
END:VCALENDAR