BEGIN:VCALENDAR
VERSION:2.0
PRODID:-//UNIVERSITY OF TEXAS SCHOOL OF LAW//NONSGML Events Calendar v1.0//EN
X-WR-TIMEZONE:America/Chicago
BEGIN:VTIMEZONE
TZID:US/Central
X-LIC-LOCATION:America/Chicago
BEGIN:DAYLIGHT
TZOFFSETFROM:-0600
TZOFFSETTO:-0500
TZNAME:CDT
DTSTART:19700308T020000
RRULE:FREQ=YEARLY;BYMONTH=3;BYDAY=2SU
END:DAYLIGHT
BEGIN:STANDARD
TZOFFSETFROM:-0500
TZOFFSETTO:-0600
TZNAME:CST
DTSTART:19701101T020000
RRULE:FREQ=YEARLY;BYMONTH=11;BYDAY=1SU
END:STANDARD
END:VTIMEZONE
BEGIN:VEVENT
DTSTART;TZID=US/Central:20140821
DTEND;TZID=US/Central:20140822
X-MICROSOFT-CDO-ALLDAYEVENT:TRUE
X-FUNAMBOL-ALLDAY:TRUE
DTSTAMP:20260421T045500Z
CREATED:20140610T201300Z
LAST-MODIFIED:20140610T201300Z
UID:20140821T000000-18993@law.utexas.edu
SUMMARY:Advanced TX Administrative Law Seminar
DESCRIPTION:<p>The Advanced Texas Administrative Law Seminar, Aug. 21-22, brings together members of the judiciary, regulatory and academic communities to engage with practitioners for discussion of the latest legislative and case law updates, rule changes and other timely topics. This two-day UT Law Continuing Legal Education program is presented by The University of Texas School of Law and the Administrative and Public Law Section of the State Bar of Texas (APLS). Register at individual, government attorney and APLS Member-Individual rates through the UT Law CLE website and view the detailed schedule.
   </p>\n\nIf you need an accommodation to participate in this event, please contact the event sponsor or the Texas Law Special Events Office at specialevents@law.utexas.edu no later than seven business days prior to the event.
X-ALT-DESC;FMTTYPE=text/html:<p>The Advanced Texas Administrative Law Seminar, Aug. 21-22, brings together members of the judiciary, regulatory and academic communities to engage with practitioners for discussion of the latest legislative and case law updates, rule changes and other timely topics. This two-day UT Law Continuing Legal Education program is presented by The University of Texas School of Law and the Administrative and Public Law Section of the State Bar of Texas (APLS). Register at individual, government attorney and APLS Member-Individual rates through the UT Law CLE website and view the detailed schedule.
   </p><p>If you need an accommodation to participate in this event, please contact the event
                                          event sponsor or the Texas Law Special Events Office at <a href="mailto:specialevents@law.utexas.edu">specialevents@law.utexas.edu</a> no later than seven business days prior to the event.</p>
CATEGORIES:Workshop / Training Program
LOCATION:AT&T Conference Center
URL:http://law.utexas.edu/calendar/2014/08/21/18993/
CLASS:PUBLIC
STATUS:CONFIRMED
COMMENT:Contact UT Law CLE
END:VEVENT
END:VCALENDAR